BEGIN:VCALENDAR
VERSION:2.0
PRODID:-//ChamberMaster//Event Calendar 2.0//EN
METHOD:PUBLISH
X-PUBLISHED-TTL:P3D
REFRESH-INTERVAL:P3D
CALSCALE:GREGORIAN
BEGIN:VEVENT
DTSTART:20091022T141500Z
DTEND:20091022T153000Z
X-MICROSOFT-CDO-ALLDAYEVENT:FALSE
SUMMARY:Business for Breakfast - Paradise Valley Mall
DESCRIPTION:Join us to network with a variety of Chamber members! This event will be a mini-trade show\, featuring eight Chamber members. Attendees will get a chance to give a brief commercial about their business. Enjoy a continental breakfast and great business leads. Bring a business card to enter into a drawing for member door prizes!  \n\nThis event will be located in the Paradise Valley Mall Food Court. Parking is available in the covered parking garage to the west of Dillards. \n\nTo Paradise Valley Mall - take SR 51 to the Cactus Exit\, head East on Cactus\, Turn left at Paradise Village Parkway and follow it northeast towards Dillards. \n\nBreakfast provided by:  Paradise Bakery and Cafe
X-ALT-DESC;FMTTYPE=text/html:<p align = "justify"> <font face="Arial" style="font-size: 9pt" color="#666666">Join us to network with a variety of Chamber members! This event will be a mini-trade show\, featuring eight Chamber members. Attendees will get a chance to give a brief commercial about their business. Enjoy a continental breakfast and great business leads. Bring a business card to enter into a drawing for member door prizes!<p></p>  \n\nThis event will be located in the Paradise Valley Mall Food Court. Parking is available in the covered parking garage to the west of Dillards.<p></p> \n\nTo Paradise Valley Mall - take SR 51 to the Cactus Exit\, head East on Cactus\, Turn left at Paradise Village Parkway and follow it northeast towards Dillards.<p></p> \n\n<strong>Breakfast provided by:</strong>  Paradise Bakery and Cafe
LOCATION:4568 E. Cactus Rd.\, Phoenix\, AZ 85032
UID:e.2665.1827
SEQUENCE:3
DTSTAMP:20260424T020925Z
URL:https://business.phoenixchamber.com/events/details/business-for-breakfast-paradise-valley-mall-10-22-2009-1827
END:VEVENT

END:VCALENDAR
