BEGIN:VCALENDAR
VERSION:2.0
PRODID:-//ChamberMaster//Event Calendar 2.0//EN
METHOD:PUBLISH
X-PUBLISHED-TTL:P3D
REFRESH-INTERVAL:P3D
CALSCALE:GREGORIAN
BEGIN:VEVENT
DTSTART:20120126T141500Z
DTEND:20120126T160000Z
X-MICROSOFT-CDO-ALLDAYEVENT:FALSE
SUMMARY:Business for Breakfast Paradise Valley Mall Mini Trade Show
DESCRIPTION:Please join the Greater Phoenix Chamber of Commerce at the Paradise Valley Mall for Business for Breakfast.\n\n\n\nAttend this free event and enjoy a light breakfast\, great business leads and an opportunity to network with representatives from many industries – there will also be door prize giveaways!  Parking is available on site in the parking structure across from the food court.
X-ALT-DESC;FMTTYPE=text/html:\n<br>\n\n<br>\nPlease join the Greater Phoenix Chamber of Commerce at the Paradise Valley Mall for Business for Breakfast.\n<br><br>\nAttend this free event and enjoy a light breakfast\, great business leads and an opportunity to network with representatives from many industries – there will also be door prize giveaways!  Parking is available on site in the parking structure across from the food court.  <br>\n\n\n\n\n\n\n\n<!--http://phoenixchamber.com/hear/3O443N2A-->
LOCATION:4568 E. Cactus Rd.\, Phoenix\, AZ 85032
UID:e.2665.2321
SEQUENCE:3
DTSTAMP:20260422T093022Z
URL:https://business.phoenixchamber.com/events/details/business-for-breakfast-paradise-valley-mall-mini-trade-show-01-26-2012-2321
END:VEVENT

END:VCALENDAR
