BEGIN:VCALENDAR
VERSION:2.0
PRODID:-//ChamberMaster//Event Calendar 2.0//EN
METHOD:PUBLISH
X-PUBLISHED-TTL:P3D
REFRESH-INTERVAL:P3D
CALSCALE:GREGORIAN
BEGIN:VEVENT
DTSTART:20110127T141500Z
DTEND:20110127T153000Z
X-MICROSOFT-CDO-ALLDAYEVENT:FALSE
SUMMARY:Business for Breakfast Paradise Valley Mall Mini Trade Show
DESCRIPTION:Are you a morning person?  This great event will definitely keep you from hitting the snooze button!  Join us on Thursday\, January 27 for a fun-filled Mini Trade Show at the Paradise Valley Mall food court.  We will have multiple table top displays\, great networking and a special presentation from our event sponsor\, AT&T who will be giving away awesome AT&T mobility door prizes.  \n\n\n\n\nParking is available on site. This is a free event for our members and guests.
X-ALT-DESC;FMTTYPE=text/html:\n<br>\n<font face="Arial" style="font-size: 9pt" color="#666666"><br>\n<br>\nAre you a morning person?  This great event will definitely keep you from hitting the snooze button!  Join us on Thursday\, January 27 for a fun-filled Mini Trade Show at the Paradise Valley Mall food court.  We will have multiple table top displays\, great networking and a special presentation from our event sponsor\, AT&T who will be giving away awesome AT&T mobility door prizes.  \n\n<br><br>\nParking is available on site. This is a free event for our members and guests.\n\n\n</font>
LOCATION:4568 E. Cactus Rd.\, Phoenix\, AZ 85032
UID:e.2665.2226
SEQUENCE:3
DTSTAMP:20260423T041809Z
URL:https://business.phoenixchamber.com/events/details/business-for-breakfast-paradise-valley-mall-mini-trade-show-01-27-2011-2226
END:VEVENT

END:VCALENDAR
