BEGIN:VCALENDAR
VERSION:2.0
PRODID:-//ChamberMaster//Event Calendar 2.0//EN
METHOD:PUBLISH
X-PUBLISHED-TTL:P3D
REFRESH-INTERVAL:P3D
CALSCALE:GREGORIAN
BEGIN:VEVENT
DTSTART:20100624T141500Z
DTEND:20100624T153000Z
X-MICROSOFT-CDO-ALLDAYEVENT:FALSE
SUMMARY:Business for Breakfast - Scramble (Canceled)
DESCRIPTION:This event has been canceled.\n\n\n\n\n\n\nJoin us to network with a variety of Chamber members! Attendees will get a chance to give a 30 second commercial about their business. Enjoy a continental breakfast and great business leads. Bring a business card to enter into a drawing for member door prizes!
X-ALT-DESC;FMTTYPE=text/html:\n<br>\n<font face="Arial" style="font-size: 9pt" color="#FF0000"><strong>This event has been canceled.\n\n\n</strong></font><font face="Arial" style="font-size: 9pt" color="#666666"><br>\n<br>\nJoin us to network with a variety of Chamber members! Attendees will get a chance to give a 30 second commercial about their business. Enjoy a continental breakfast and great business leads. Bring a business card to enter into a drawing for member door prizes! \n\n</font>
LOCATION:9832 N. 7th St.\, Ste. 1\, Phoenix\, AZ 85020
UID:e.2665.2054
SEQUENCE:3
DTSTAMP:20260423T131600Z
URL:https://business.phoenixchamber.com/events/details/business-for-breakfast-scramble-canceled-06-24-2010-2054
END:VEVENT

END:VCALENDAR
