BEGIN:VCALENDAR
VERSION:2.0
PRODID:-//ChamberMaster//Event Calendar 2.0//EN
METHOD:PUBLISH
X-PUBLISHED-TTL:P3D
REFRESH-INTERVAL:P3D
CALSCALE:GREGORIAN
BEGIN:VEVENT
DTSTART:20100113T141500Z
DTEND:20100113T153000Z
X-MICROSOFT-CDO-ALLDAYEVENT:FALSE
SUMMARY:Business for Breakfast - South Mountain/Laveen Chapter at Bougainvillea Golf Club
DESCRIPTION:Join us to network with a variety of Chamber members! Attendees will get a chance to give a 30 second commercial about their business. Enjoy a continental breakfast and great business leads. Bring a business card to enter into a drawing for member door prizes! \n \n\nConveniently located in Laveen\, Bougainvillea Golf Club is approximately 25 \nminutes south of University of Phoenix Stadium.\n\nFrom University of Phoenix Stadium\n\n	\n	Take Highway 101 \n	to I-10 East.\n	\n	Exit 67th Avenue \n	and go South to Baseline Road.\n	\n	Head East on \n	Baseline Road to 5740 W. Baseline Road.\n\n\nFrom Scottsdale\n\n	\n	Take Highway 51 \n	South to I-10 West.\n	\n	Exit 51st Avenue \n	and drive South to Baseline Road.\n	\n	Head West on \n	Baseline Road to 5740 W. Baseline Road.\n\n\nFrom Mesa\n\n	\n	Take Highway 60 \n	West to I-10 East and exit Baseline Road.\n	\n	Proceed West on \n	Baseline Road 12 miles to 5740 W. Baseline Road.
X-ALT-DESC;FMTTYPE=text/html:\n<head>\n<style>\n<!--\n li.MsoNormal\n	{mso-style-parent:""\;\n	margin-bottom:.0001pt\;\n	font-size:12.0pt\;\n	font-family:"Times New Roman"\;\n	margin-left:0in\; margin-right:0in\; margin-top:0in}\n-->\n</style>\n</head>\n\n<p align = "justify"> <font face="Arial" style="font-size: 9pt" color="#666666">Join us to network with a variety of Chamber members! Attendees will get a chance to give a 30 second commercial about their business. Enjoy a continental breakfast and great business leads. Bring a business card to enter into a drawing for member door prizes! \n</font> </p>\n<p class="header3"><font face="Arial" style="font-size: 9pt" color="#666666">\nConveniently located in Laveen\, Bougainvillea Golf Club is approximately 25 \nminutes south of University of Phoenix Stadium.</font></p>\n<p class="header1"><font face="Arial" style="font-size: 9pt" color="#666666">\nFrom University of Phoenix Stadium</font></p>\n<ul type="disc" style="margin-bottom: 0in">\n	<li class="MsoNormal">\n	<font face="Arial" style="font-size: 9pt" color="#666666">Take Highway 101 \n	to I-10 East.</font></li>\n	<li class="MsoNormal">\n	<font face="Arial" style="font-size: 9pt" color="#666666">Exit 67th Avenue \n	and go South to Baseline Road.</font></li>\n	<li class="MsoNormal">\n	<font face="Arial" style="font-size: 9pt" color="#666666">Head East on \n	Baseline Road to 5740 W. Baseline Road.</font></li>\n</ul>\n<p class="MsoNormal"><font face="Arial" style="font-size: 9pt" color="#666666">\nFrom Scottsdale</font></p>\n<ul type="disc" style="margin-bottom: 0in">\n	<li class="MsoNormal">\n	<font face="Arial" style="font-size: 9pt" color="#666666">Take Highway 51 \n	South to I-10 West.</font></li>\n	<li class="MsoNormal">\n	<font face="Arial" style="font-size: 9pt" color="#666666">Exit 51st Avenue \n	and drive South to Baseline Road.</font></li>\n	<li class="MsoNormal">\n	<font face="Arial" style="font-size: 9pt" color="#666666">Head West on \n	Baseline Road to 5740 W. Baseline Road.</font></li>\n</ul>\n<p class="header1"><font face="Arial" style="font-size: 9pt" color="#666666">\nFrom Mesa</font></p>\n<ul type="disc" style="margin-bottom: 0in">\n	<li class="MsoNormal">\n	<font face="Arial" style="font-size: 9pt" color="#666666">Take Highway 60 \n	West to I-10 East and exit Baseline Road.</font></li>\n	<li class="MsoNormal">\n	<font face="Arial" style="font-size: 9pt" color="#666666">Proceed West on \n	Baseline Road 12 miles to 5740 W. Baseline Road.</font></li>\n</ul>
LOCATION:5740 W. Baseline Rd.\, Laveen\, AZ 85339
UID:e.2665.1920
SEQUENCE:3
DTSTAMP:20260423T232154Z
URL:https://business.phoenixchamber.com/events/details/business-for-breakfast-south-mountain-laveen-chapter-at-bougainvillea-golf-club-01-13-2010-1920
END:VEVENT

END:VCALENDAR
