BEGIN:VCALENDAR
VERSION:2.0
PRODID:-//ChamberMaster//Event Calendar 2.0//EN
METHOD:PUBLISH
X-PUBLISHED-TTL:P3D
REFRESH-INTERVAL:P3D
CALSCALE:GREGORIAN
BEGIN:VEVENT
DTSTART:20100225T141500Z
DTEND:20100225T153000Z
X-MICROSOFT-CDO-ALLDAYEVENT:FALSE
SUMMARY:Business for Breakfast - The RoomStore
DESCRIPTION:table.MsoNormalTable\n	{font-size:11.0pt\;\n	font-family:"Calibri"\,"sans-serif"\;\n	}\n p.MsoNormal\n	{margin-bottom:.0001pt\;\n	font-size:11.0pt\;\n	font-family:"Calibri"\,"sans-serif"\;\n		margin-left: 0in\;\n	margin-right: 0in\;\n	margin-top: 0in\;\n}\na:link\n	{color:blue\;\n	text-decoration:underline\;\n	text-underline:single\;\n}\n.style1 {\n	font-family: Arial\;\n}\n.style2 {\n	font-size: 9pt\;\n	color: #666666\;\n}\n\n\n\nJoin us to network with a variety of Chamber members!  \nThis event will be a mini-trade show\, featuring eight Chamber members.  \nAttendees will get a chance to give a brief commercial about their business.\n\n\nEnjoy a \ncontinental breakfast and great business leads.  Bring a business card to \nenter into a drawing for member door prizes!\n\n\nLocated at the US 50 and Alma School.
X-ALT-DESC;FMTTYPE=text/html:<head>\n<meta content="en-us" http-equiv="Content-Language">\n<style type="text/css">\n table.MsoNormalTable\n	{font-size:11.0pt\;\n	font-family:"Calibri"\,"sans-serif"\;\n	}\n p.MsoNormal\n	{margin-bottom:.0001pt\;\n	font-size:11.0pt\;\n	font-family:"Calibri"\,"sans-serif"\;\n		margin-left: 0in\;\n	margin-right: 0in\;\n	margin-top: 0in\;\n}\na:link\n	{color:blue\;\n	text-decoration:underline\;\n	text-underline:single\;\n}\n.style1 {\n	font-family: Arial\;\n}\n.style2 {\n	font-size: 9pt\;\n	color: #666666\;\n}\n</style>\n</head>\n<p class="style1">\n<o:p><span class="style2">Join us to network with a variety of Chamber members!&nbsp\; \nThis event will be a mini-trade show\, featuring eight Chamber members.&nbsp\; \nAttendees will get a chance to give a brief commercial about their business.\n</span><br class="style2"><br class="style2"><span class="style2">Enjoy a \ncontinental breakfast and great business leads.&nbsp\; Bring a business card to \nenter into a drawing for member door prizes!</span><br class="style2">\n<br class="style2"><span class="style2">Located at the US 50 and Alma School.</span></o:p></p>\n<p class="MsoNormal"><o:p>&nbsp\;</o:p></p>\n
LOCATION:1661 S. Alma School Rd.\, Mesa\, AZ 85210
UID:e.2665.1934
SEQUENCE:3
DTSTAMP:20260423T201010Z
URL:https://business.phoenixchamber.com/events/details/business-for-breakfast-the-roomstore-02-25-2010-1934
END:VEVENT

END:VCALENDAR
