BEGIN:VCALENDAR
VERSION:2.0
PRODID:-//ChamberMaster//Event Calendar 2.0//EN
METHOD:PUBLISH
X-PUBLISHED-TTL:P3D
REFRESH-INTERVAL:P3D
CALSCALE:GREGORIAN
BEGIN:VEVENT
DTSTART:20121211T153000Z
DTEND:20121211T200000Z
X-MICROSOFT-CDO-ALLDAYEVENT:FALSE
SUMMARY:Day at Phoenix City Hall
DESCRIPTION:Registration for this event is now closed. Thank you!\n\nAre you interested in learning more about what happens at Phoenix City Hall? Have you ever had a city related issue and wondered where to turn for help? If these topics resonate with you then you should mark your calendar for the Greater Phoenix Chamber of Commerce's ''Day at Phoenix City Hall'' on Tuesday\, December 11th.  Take this opportunity to get a behind-the-scenes look at what goes on in Phoenix City Hall\, learn what it takes to do business with the City of Phoenix and get to know some of the top decision-makers. The program will include an opportunity to meet with elected officials\, hear from top levels of management on what's new and improved\,  learn about the historical relationship of the Chamber and City Hall and share an in-depth discussion on how to leverage your Chamber membership at the City.\n\n\n\nRegistration & Networking: 8:30-9:00am\n\nProgram: 9:00am-12:00pm\n\nLunch with Mayor and Council: 12:00-1pm\n\n\n\n	\n		David Cavazos\, City Manager\n\n		Mario Paniagua\, Budget and Research\n\n		Jeff DeWitt\, Finance \n\n		John Chan\, Community and Economic Development\n\n		\n		Debra Stark\, Planning and Development\n\n		Karen Peters\, Government Relations\n\n		Detective Mark Potts\, Police Department Business Representative\n\n		Jon Brodsky\, Management Assistant \n	\n\n\n\n\n\nMember Panelists:\n\n\nJim Mapstead\, Accurate Signs & Engraving\, Inc. \n\nNatalie Veidmark\, SSC Boring \n\nDavid Sch
X-ALT-DESC;FMTTYPE=text/html:\n<p align="center"><font color="#ff0000">Registration for this event is now closed. Thank you!</font></p>\n\n<p>Are you interested in learning more about what happens at Phoenix City Hall? Have you ever had a city related issue and wondered where to turn for help? If these topics resonate with you then you should mark your calendar for the Greater Phoenix Chamber of Commerce's ''Day at Phoenix City Hall'' on Tuesday\, December 11th.  Take this opportunity to get a behind-the-scenes look at what goes on in Phoenix City Hall\, learn what it takes to do business with the City of Phoenix and get to know some of the top decision-makers. The program will include an opportunity to meet with elected officials\, hear from top levels of management on what's new and improved\,  learn about the historical relationship of the Chamber and City Hall and share an in-depth discussion on how to leverage your Chamber membership at the City.</p>\n\n<!--Phoenix Mayor Greg Stanton will be joining our group during the luncheon portion of the program. <br /><br />-->\n\nRegistration & Networking: 8:30-9:00am<br />\nProgram: 9:00am-12:00pm<br />\nLunch with Mayor and Council: 12:00-1pm<br />\n\n<!-- \n\nCity of Phoenix panelists include:<br><br>\n\n<table>\n	<tr>\n		<td style="width: 310px"><strong>David Cavazos</strong>\, City Manager<br />\n		<strong>Mario Paniagua</strong>\, Budget and Research<br />\n		<strong>Jeff DeWitt</strong>\, Finance <br />\n		<strong>John Chan</strong>\, Community and Economic Development<br />\n		</td>\n		<td><strong>Debra Stark</strong>\, Planning and Development<br />\n		<strong>Karen Peters</strong>\, Government Relations<br />\n		<strong>Detective Mark Potts</strong>\, Police Department Business Representative<br />\n		<strong>Jon Brodsky</strong>\, Management Assistant </td>\n	</tr>\n</table>\n\n<br>\n\nMember Panelists:<br><br>\n<strong>Jim Mapstead</strong>\, Accurate Signs & Engraving\, Inc. <br>\n<strong>Natalie Veidmark</strong>\, SSC Boring <br>\n<strong>David Sch
LOCATION:200 W. Washington St.\, Phoenix\, AZ 85003
UID:e.2665.2662
SEQUENCE:3
DTSTAMP:20260421T131442Z
URL:https://business.phoenixchamber.com/events/details/day-at-phoenix-city-hall-12-11-2012-2662
END:VEVENT

END:VCALENDAR
