BEGIN:VCALENDAR
VERSION:2.0
PRODID:-//ChamberMaster//Event Calendar 2.0//EN
METHOD:PUBLISH
X-PUBLISHED-TTL:P3D
REFRESH-INTERVAL:P3D
CALSCALE:GREGORIAN
BEGIN:VEVENT
DTSTART:20101210T160000Z
DTEND:20101210T210000Z
X-MICROSOFT-CDO-ALLDAYEVENT:FALSE
SUMMARY:Day at the Capitol
DESCRIPTION:p.MsoNormal\n	{margin-bottom:.0001pt\;\n	font-size:11.0pt\;\n	font-family:"Calibri"\,"sans-serif"\;\n		margin-left: 0in\;\n	margin-right: 0in\;\n	margin-top: 0in\;\n}\np.MsoListParagraph\n	{margin-top:0in\;\n	margin-right:0in\;\n	margin-bottom:0in\;\n	margin-left:.5in\;\n	margin-bottom:.0001pt\;\n	font-size:11.0pt\;\n	font-family:"Calibri"\,"sans-serif"\;\n	}\n\n\n\n\n\nHave you ever wondered how the Arizona legislative process \nworks? In conjunction with the Small Business Leadership Council\, Hispanic \nBusiness Leadership Council and Valley Young Professionals\, we invite you to \nspend a day at the Capitol!\n \nThis is your chance to get a behind-the-scenes look at what \ngoes on at the Arizona State Capitol\, before the legislative session begins. \nThere will be two tracks to choose from\, with slightly different agendas.\n \nTrack One\n10am-2pm\n\n·        \nTour the Senate chamber\n\n·        \nMeet current Legislative Representatives\n\n<span sty
X-ALT-DESC;FMTTYPE=text/html:<html>\n\n<head>\n<style type="text/css">\n p.MsoNormal\n	{margin-bottom:.0001pt\;\n	font-size:11.0pt\;\n	font-family:"Calibri"\,"sans-serif"\;\n		margin-left: 0in\;\n	margin-right: 0in\;\n	margin-top: 0in\;\n}\np.MsoListParagraph\n	{margin-top:0in\;\n	margin-right:0in\;\n	margin-bottom:0in\;\n	margin-left:.5in\;\n	margin-bottom:.0001pt\;\n	font-size:11.0pt\;\n	font-family:"Calibri"\,"sans-serif"\;\n	}\n</style>\n</head>\n<br><br>\n<p class="MsoNormal">Have you ever wondered how the Arizona legislative process \nworks? In conjunction with the Small Business Leadership Council\, Hispanic \nBusiness Leadership Council and Valley Young Professionals\, we invite you to \nspend a day at the Capitol!</p>\n<p class="MsoNormal"><o:p>&nbsp\;</o:p></p>\n<p class="MsoNormal">This is your chance to get a behind-the-scenes look at what \ngoes on at the Arizona State Capitol\, before the legislative session begins. \nThere will be two tracks to choose from\, with slightly different agendas.</p>\n<p class="MsoNormal"><o:p>&nbsp\;</o:p></p>\n<p class="MsoNormal">Track One</p>\n<p class="MsoNormal">10am-2pm</p>\n<p class="MsoListParagraph" style="text-indent:-.25in\;mso-list:l0 level1 lfo1"><![if !supportLists]>\n<span style="font-family:Symbol\;mso-fareast-font-family:Symbol\;mso-bidi-font-family:\nSymbol"><span style="mso-list:Ignore">·<span style="font:7.0pt &quot\;Times New Roman&quot\;">&nbsp\;&nbsp\;&nbsp\;&nbsp\;&nbsp\;&nbsp\;&nbsp\;&nbsp\;\n</span></span></span><![endif]>Tour the Senate chamber</p>\n<p class="MsoListParagraph" style="text-indent:-.25in\;mso-list:l0 level1 lfo1"><![if !supportLists]>\n<span style="font-family:Symbol\;mso-fareast-font-family:Symbol\;mso-bidi-font-family:\nSymbol"><span style="mso-list:Ignore">·<span style="font:7.0pt &quot\;Times New Roman&quot\;">&nbsp\;&nbsp\;&nbsp\;&nbsp\;&nbsp\;&nbsp\;&nbsp\;&nbsp\;\n</span></span></span><![endif]>Meet current Legislative Representatives</p>\n<p class="MsoListParagraph" style="text-indent:-.25in\;mso-list:l0 level1 lfo1"><![if !supportLists]>\n<span sty
LOCATION:Arizona State Capitol\, Phoenix\, AZ 85003
UID:e.2665.2170
SEQUENCE:3
DTSTAMP:20260423T053859Z
URL:https://business.phoenixchamber.com/events/details/day-at-the-capitol-12-10-2010-2170
END:VEVENT

END:VCALENDAR
