BEGIN:VCALENDAR
VERSION:2.0
PRODID:-//ChamberMaster//Event Calendar 2.0//EN
METHOD:PUBLISH
X-PUBLISHED-TTL:P3D
REFRESH-INTERVAL:P3D
CALSCALE:GREGORIAN
BEGIN:VEVENT
DTSTART:20100219T000000Z
DTEND:20100219T020000Z
X-MICROSOFT-CDO-ALLDAYEVENT:FALSE
SUMMARY:Downtown Phoenix: Urban Heart of Arizona
DESCRIPTION:Join the Greater Phoenix Chamber of Commerce as we partner \nwith the Downtown Phoenix Partnership and the City of Phoenix Mayor's Office to \nenjoy a night of networking amongst the art at the \nArizona Latino Arts & Cultural Center (ALAC).\n\n\nALAC is proud to have established the presence of a \nLatino cultural center in the ''Heart of Phoenix'' with the mission of promotion\, \npreservation\, and education of Latino arts and culture. They offer creative \nprograms\, festivals and art that will engage the young and young of heart. Be \nsure to attend this exclusive viewing of the gallery while making valuable \nbusiness connections.
X-ALT-DESC;FMTTYPE=text/html:<head>\n\n</head>\n\n\n\n<p class="MsoNormal"><font face="Arial" style="font-size: 9pt">\n<font color="#666666">Join the Greater Phoenix Chamber of Commerce as we partner \nwith the Downtown Phoenix Partnership and the City of Phoenix Mayor's Office to \nenjoy a night of networking amongst the art at the </font>\n<span style="color: #666666">Arizona Latino Arts &amp\; Cultural Center (ALAC).\n</span></font></p>\n<p class="MsoNormal"><font face="Arial" style="font-size: 9pt">\n<span style="color: #666666">ALAC is proud to have established the presence of a \nLatino cultural center in the ''Heart of Phoenix'' with the mission of promotion\, \npreservation\, and education of Latino arts and culture. They offer creative \nprograms\, festivals and art that will engage the young and young of heart. Be \nsure to attend this exclusive viewing of the gallery while making valuable \nbusiness connections. </span></font></p>\n<p class="MsoNormal">\n&nbsp\;&nbsp\;\n</p>\n\n\n
LOCATION:147 E. Adams St.\, Phoenix\, AZ 85004
UID:e.2665.1952
SEQUENCE:3
DTSTAMP:20260423T201251Z
URL:https://business.phoenixchamber.com/events/details/downtown-phoenix-urban-heart-of-arizona-02-18-2010-1952
END:VEVENT

END:VCALENDAR
