BEGIN:VCALENDAR
VERSION:2.0
PRODID:-//ChamberMaster//Event Calendar 2.0//EN
METHOD:PUBLISH
X-PUBLISHED-TTL:P3D
REFRESH-INTERVAL:P3D
CALSCALE:GREGORIAN
BEGIN:VEVENT
DTSTART:20100423T000000Z
DTEND:20100423T020000Z
X-MICROSOFT-CDO-ALLDAYEVENT:FALSE
SUMMARY:Downtown Phoenix: Urban Heart of Arizona
DESCRIPTION:.style2 {\n	font-family: Arial\;\n	font-size: 9pt\;\n	color: #666666\;\n}\n\n\n\n\n\n\n\nJoin the Greater Phoenix Chamber of Commerce as we partner \nwith the Downtown Phoenix Partnership and the City of Phoenix Mayor's Office to \nnetwork 11-stories up with 360-degree views of the Downtown Phoenix excitement \nand beautiful mountain  vistas!\n\n\nA This truly unique  venue is a decades old \nicon dating back to 1931 and is one of very few remaining art deco high-rises in \nDowntown Phoenix.  The building used to be known as the Phoenix Title and \nTrust Building and is located at the northwest corner of Adams Street and First \nAvenue in Copper Square\, which is often referred to as "the historical heart of \ndowntown Phoenix."  Recently renovated\, the Penthouse and adjoining rooftop \noffer incredible views of the downtown area and creates an ambiance unlike any \nother venue in Phoenix.  Don't miss this incredible opportunity to see \ndowntown from this perspective.  \n\n\n\n:
X-ALT-DESC;FMTTYPE=text/html:<head>\n\n<style type="text/css">\n.style2 {\n	font-family: Arial\;\n	font-size: 9pt\;\n	color: #666666\;\n}\n</style>\n\n</head>\n\n\n\n<p class="MsoNormal"><font face="Arial" style="font-size: 9pt">\n<font color="#666666">Join the Greater Phoenix Chamber of Commerce as we partner \nwith the Downtown Phoenix Partnership and the City of Phoenix Mayor's Office to \nnetwork 11-stories up with 360-degree views of the Downtown Phoenix excitement \nand beautiful mountain&nbsp\; vistas!</font><span style="color: #666666">\n</span></font></p>\n<p class="MsoNormal"><font face="Arial" style="font-size: 9pt">\n<span style="color: #666666">A This truly unique&nbsp\; venue is a decades old \nicon dating back to 1931 and is one of very few remaining art deco high-rises in \nDowntown Phoenix.&nbsp\; The building used to be known as the Phoenix Title and \nTrust Building and is located at the northwest corner of Adams Street and First \nAvenue in Copper Square\, which is often referred to as &quot\;the historical heart of \ndowntown Phoenix.&quot\;&nbsp\; Recently renovated\, the Penthouse and adjoining rooftop \noffer incredible views of the downtown area and creates an ambiance unlike any \nother venue in Phoenix.&nbsp\; Don't miss this incredible opportunity to see \ndowntown from this perspective. </span></font>&nbsp\;<br><br>\n<span class="style2">\n: </span>\n</p>\n\n<p class="MsoNormal">&nbsp\;</p>\n\n\n
LOCATION:114 W. Adams\, Phoenix\, AZ 85004
UID:e.2665.2023
SEQUENCE:3
DTSTAMP:20260423T164551Z
URL:https://business.phoenixchamber.com/events/details/downtown-phoenix-urban-heart-of-arizona-04-22-2010-2023
END:VEVENT

END:VCALENDAR
