BEGIN:VCALENDAR
VERSION:2.0
PRODID:-//ChamberMaster//Event Calendar 2.0//EN
METHOD:PUBLISH
X-PUBLISHED-TTL:P3D
REFRESH-INTERVAL:P3D
CALSCALE:GREGORIAN
BEGIN:VEVENT
DTSTART:20100716T000000Z
DTEND:20100716T020000Z
X-MICROSOFT-CDO-ALLDAYEVENT:FALSE
SUMMARY:Downtown Phoenix: Urban Heart of Arizona
DESCRIPTION:Join the Greater Phoenix Chamber of Commerce as we partner \nwith the Downtown Phoenix Partnership and the City of Phoenix Mayor's Office.\n\n\nCome enjoy networking and adventures at the Arizona \nScience Center.  Located in the heart of downtown Phoenix\, the Center is \nknown for its more than 300 hands-on exhibits\, live science demonstrations\, \nfive-story IMAX 3D Theater\, the cutting-edge Dorrance Planetarium and immersive \neducational programs that can't be experienced anywhere else in the state.  \nYou won't want to miss this!
X-ALT-DESC;FMTTYPE=text/html:<head>\n\n</head>\n\n\n\n<p class="MsoNormal"><font face="Arial" style="font-size: 9pt">\n<font color="#666666">Join the Greater Phoenix Chamber of Commerce as we partner \nwith the Downtown Phoenix Partnership and the City of Phoenix Mayor's Office.</font><span style="color: #666666">\n</span></font></p>\n<p class="MsoNormal"><font face="Arial" style="font-size: 9pt">\n<span style="color: #666666">Come enjoy networking and adventures at the Arizona \nScience Center.&nbsp\; Located in the heart of downtown Phoenix\, the Center is \nknown for its more than 300 hands-on exhibits\, live science demonstrations\, \nfive-story IMAX 3D Theater\, the cutting-edge Dorrance Planetarium and immersive \neducational programs that can't be experienced anywhere else in the state.&nbsp\; \nYou won't want to miss this! </span></font>&nbsp\;<br>\n</p>\n\n<p class="MsoNormal">&nbsp\;</p>\n
LOCATION:600 E. Washington St.\, Phoenix\, AZ 85004
UID:e.2665.2076
SEQUENCE:3
DTSTAMP:20260423T113442Z
URL:https://business.phoenixchamber.com/events/details/downtown-phoenix-urban-heart-of-arizona-07-15-2010-2076
END:VEVENT

END:VCALENDAR
