BEGIN:VCALENDAR
VERSION:2.0
PRODID:-//ChamberMaster//Event Calendar 2.0//EN
METHOD:PUBLISH
X-PUBLISHED-TTL:P3D
REFRESH-INTERVAL:P3D
CALSCALE:GREGORIAN
BEGIN:VEVENT
DTSTART:20100209T180000Z
DTEND:20100209T190000Z
X-MICROSOFT-CDO-ALLDAYEVENT:FALSE
SUMMARY:Economic Development Committee Meeting
DESCRIPTION:.style1 {\n	font-family: Arial\;\n	font-size: 9pt\;\n	color: #666666\;\n}\n.style2 {\n	text-decoration: underline\;\n}\n.style3 {\n	font-size: 9pt\;\n}\n\n\n\n\n\n\nThe Greater Phoenix Chamber of Commerce offers more \nthan 9 committees to get involved with and let your voice be heard. Each \ncommittee evaluates legislation and policy initiatives\, in order to make \nposition recommendations to the Public Affairs Committee.\n\nEconomic Development Committee:  \nWorks on efforts at all levels of government to ensure the retention of \nexisting\, and expansion of new businesses in the Greater Phoenix Metropolitan \narea.\n\nGuest Speaker:  Don Cardon\nDirector of Arizona \nDepartment of Commerce
X-ALT-DESC;FMTTYPE=text/html:\n<head>\n<style type="text/css">\n.style1 {\n	font-family: Arial\;\n	font-size: 9pt\;\n	color: #666666\;\n}\n.style2 {\n	text-decoration: underline\;\n}\n.style3 {\n	font-size: 9pt\;\n}\n</style>\n</head>\n\n<body class="style1">\n\n<br><span class="style3">The Greater Phoenix Chamber of Commerce offers more \nthan 9 committees to get involved with and let your voice be heard. Each \ncommittee evaluates legislation and policy initiatives\, in order to make \nposition recommendations to the Public Affairs Committee.<br><br><strong><span class="style2">Economic Development Committee: </span>&nbsp\;</strong>\nWorks on efforts at all levels of government to ensure the retention of \nexisting\, and expansion of new businesses in the Greater Phoenix Metropolitan \narea.</span><br><br>Guest Speaker:&nbsp\; Don Cardon<br>Director of Arizona \nDepartment of Commerce
LOCATION:201 N. Central Ave.\, Ste. 2700\, Phoenix\, AZ 85004
UID:e.2665.1956
SEQUENCE:3
DTSTAMP:20260423T200849Z
URL:https://business.phoenixchamber.com/events/details/economic-development-committee-meeting-02-09-2010-1956
END:VEVENT

END:VCALENDAR
