BEGIN:VCALENDAR
VERSION:2.0
PRODID:-//ChamberMaster//Event Calendar 2.0//EN
METHOD:PUBLISH
X-PUBLISHED-TTL:P3D
REFRESH-INTERVAL:P3D
CALSCALE:GREGORIAN
BEGIN:VEVENT
DTSTART:20100316T180000Z
DTEND:20100316T190000Z
X-MICROSOFT-CDO-ALLDAYEVENT:FALSE
SUMMARY:Economic Development Committee Meeting
DESCRIPTION:.style1 {\n	font-family: Arial\;\n	font-size: 9pt\;\n	color: #666666\;\n}\n.style2 {\n	text-decoration: underline\;\n}\n.style3 {\n	font-size: 9pt\;\n}\n\n\n\n\n\n\nThe Greater Phoenix Chamber of Commerce offers more \nthan 9 committees to get involved with and let your voice be heard. Each \ncommittee evaluates legislation and policy initiatives\, in order to make \nposition recommendations to the Public Affairs Committee.\n\nEconomic Development Committee:  \nWorks on efforts at all levels of government to ensure the retention of \nexisting\, and expansion of new businesses in the Greater Phoenix Metropolitan \narea.\n\nLocation for the Meeting:  TBA
X-ALT-DESC;FMTTYPE=text/html:<head>\n<style type="text/css">\n.style1 {\n	font-family: Arial\;\n	font-size: 9pt\;\n	color: #666666\;\n}\n.style2 {\n	text-decoration: underline\;\n}\n.style3 {\n	font-size: 9pt\;\n}\n</style>\n</head>\n\n<body class="style1">\n\n<br><span class="style3">The Greater Phoenix Chamber of Commerce offers more \nthan 9 committees to get involved with and let your voice be heard. Each \ncommittee evaluates legislation and policy initiatives\, in order to make \nposition recommendations to the Public Affairs Committee.<br><br><strong><span class="style2">Economic Development Committee: </span>&nbsp\;</strong>\nWorks on efforts at all levels of government to ensure the retention of \nexisting\, and expansion of new businesses in the Greater Phoenix Metropolitan \narea.<br><br><strong>Location for the Meeting:&nbsp\; TBA</strong></span><br><br>
LOCATION:201 N. Central Ave.\, Phoenix\, AZ 85004
UID:e.2665.1974
SEQUENCE:3
DTSTAMP:20260423T200837Z
URL:https://business.phoenixchamber.com/events/details/economic-development-committee-meeting-03-16-2010-1974
END:VEVENT

END:VCALENDAR
