BEGIN:VCALENDAR
VERSION:2.0
PRODID:-//ChamberMaster//Event Calendar 2.0//EN
METHOD:PUBLISH
X-PUBLISHED-TTL:P3D
REFRESH-INTERVAL:P3D
CALSCALE:GREGORIAN
BEGIN:VEVENT
DTSTART:20110726T180000Z
DTEND:20110726T193000Z
X-MICROSOFT-CDO-ALLDAYEVENT:FALSE
SUMMARY:Economic Development Committee Meeting
DESCRIPTION:Issue Committees: As part of the Public Affairs Committee\, the issue committees offer the Chamber additional guidance\,\nleadership\, and participation before and during the legislative season.Economic Development Committee:  \naddresses issues related to the Valley's economic needs\, including workforce development\nand recruitment\, high tech innovations\, business retention\, public and private partnerships\, emerging career fi elds\, and\nwealth building employees. \n(Meets the second Tuesday at 11:00am year round)
X-ALT-DESC;FMTTYPE=text/html:<br><p><b>Issue Committees:</b> As part of the Public Affairs Committee\, the issue committees offer the Chamber additional guidance\,\nleadership\, and participation before and during the legislative season.</p><strong><span class="style2">Economic Development Committee: </span>&nbsp\;</strong>\naddresses issues related to the Valley's economic needs\, including workforce development\nand recruitment\, high tech innovations\, business retention\, public and private partnerships\, emerging career fi elds\, and\nwealth building employees. <br>(Meets the second Tuesday at 11:00am year round)</span>
LOCATION:201 N. Central Ave.\, Ste. 2700\, Phoenix\, AZ 85004
UID:e.2665.2373
SEQUENCE:3
DTSTAMP:20260422T171304Z
URL:https://business.phoenixchamber.com/events/details/economic-development-committee-meeting-07-26-2011-2373
END:VEVENT

END:VCALENDAR
