BEGIN:VCALENDAR
VERSION:2.0
PRODID:-//ChamberMaster//Event Calendar 2.0//EN
METHOD:PUBLISH
X-PUBLISHED-TTL:P3D
REFRESH-INTERVAL:P3D
CALSCALE:GREGORIAN
BEGIN:VEVENT
DTSTART:20090930T140000Z
DTEND:20090930T170000Z
X-MICROSOFT-CDO-ALLDAYEVENT:FALSE
SUMMARY:Economic Outlook 2010
DESCRIPTION:.style1 {\n	font-family: Arial\;\n	font-size: 9pt\;\n	color: #666666\;\n}\n.style2 {\n	border-width: 0px\;\n}\nspan.A14\n	{font-family:"Futura Std Book"\;\n	color:#221E1F\;\n}\nspan.A19\n	{font-family:"Futura Std Book"\;\n	color:#221E1F\;\n}\n.style3 {\n	font-size: 9pt\;\n	font-family: Arial\;\n	color: #666666\;\n	margin-left: 0in\;\n	margin-right: 0in\;\n	margin-top: 0in\;\n	margin-bottom: .0001pt\;\n}\n.style4 {\n	line-height: 12.05pt\;\n	font-size: 12.0pt\;\n	font-family: "Futura Std Book"\;\n	margin-left: 0in\;\n	margin-right: 0in\;\n	margin-top: 0in\;\n	margin-bottom: .0001pt\;\n}\n.style5 {\n	font-family: Arial\;\n}\n.style6 {\n	font-family: Arial\;\n	font-size: 9pt\;\n}\n.style7 {\n	font-size: 9pt\;\n}\n.style8 {\n	color: #666666\;\n}\n.style9 {\n	line-height: 12.05pt\;\n	font-size: 9pt\;\n	font-family: Arial\;\n	color: #666666\;\n	margin-left: 0in\;\n	margin-right: 0in\;\n	margin-top: 0in\;\n	margin-bottom: .0001pt\;\n}\n.style10 {\n	text-decoration: underline\;\n}\n.style11 {\n	color: #7797CE\;\n}\n.style12 {\n	font-family: Arial\;\n	font-size: 9pt\;\n	color: #FF0000\;\n}\n\n\n\n\n\nRegistration: 7 am\n2010 Economic Outlook: 7:30 – \n10:00 am\n \n\nOnline pre-registration has now closed. \nA limited number of seats will be available for purchase on-site\,  \n\n\nclick here to RSVP.\n \n<p clas
X-ALT-DESC;FMTTYPE=text/html:<head>\n<style type="text/css">\n.style1 {\n	font-family: Arial\;\n	font-size: 9pt\;\n	color: #666666\;\n}\n.style2 {\n	border-width: 0px\;\n}\nspan.A14\n	{font-family:"Futura Std Book"\;\n	color:#221E1F\;\n}\nspan.A19\n	{font-family:"Futura Std Book"\;\n	color:#221E1F\;\n}\n.style3 {\n	font-size: 9pt\;\n	font-family: Arial\;\n	color: #666666\;\n	margin-left: 0in\;\n	margin-right: 0in\;\n	margin-top: 0in\;\n	margin-bottom: .0001pt\;\n}\n.style4 {\n	line-height: 12.05pt\;\n	font-size: 12.0pt\;\n	font-family: "Futura Std Book"\;\n	margin-left: 0in\;\n	margin-right: 0in\;\n	margin-top: 0in\;\n	margin-bottom: .0001pt\;\n}\n.style5 {\n	font-family: Arial\;\n}\n.style6 {\n	font-family: Arial\;\n	font-size: 9pt\;\n}\n.style7 {\n	font-size: 9pt\;\n}\n.style8 {\n	color: #666666\;\n}\n.style9 {\n	line-height: 12.05pt\;\n	font-size: 9pt\;\n	font-family: Arial\;\n	color: #666666\;\n	margin-left: 0in\;\n	margin-right: 0in\;\n	margin-top: 0in\;\n	margin-bottom: .0001pt\;\n}\n.style10 {\n	text-decoration: underline\;\n}\n.style11 {\n	color: #7797CE\;\n}\n.style12 {\n	font-family: Arial\;\n	font-size: 9pt\;\n	color: #FF0000\;\n}\n</style>\n</head>\n\n<body class="style1">\n\n<p class="style3" style="text-autospace: none\;">Registration: 7 am<o:p></o:p></p>\n<p class="style3" style="text-autospace: none\;">2010 Economic Outlook: 7:30 – \n10:00 am<o:p></o:p></p>\n<p class="style3" style="text-autospace: none\;"><o:p>&nbsp\;</o:p></p>\n<p class="style4" style="text-autospace: none\;"><o:p><span class="A19">\n<span class="style12"><strong>Online pre-registration has now closed</strong></span><span class="style1">. \nA limited number of seats will be available for purchase on-site\, </span></span><span class="style6"><span class="A19" style="color: #7797CE"> </span></span>\n<span class="style1"><span class="A19">\n<span class="style10"><a href="mailto:cerekson@phoenixchamber.com">\n<span class="style11">click here</span></a></span> to RSVP.</span></span></o:p></p>\n<p class="style4" style="text-autospace: none\;">&nbsp\;</p>\n<p clas
LOCATION:Frank Lloyd Wright Ballroom\, Phoenix\, AZ 85016
UID:e.2665.1801
SEQUENCE:3
DTSTAMP:20260424T033608Z
URL:https://business.phoenixchamber.com/events/details/economic-outlook-2010-09-30-2009-1801
END:VEVENT

END:VCALENDAR
