BEGIN:VCALENDAR
VERSION:2.0
PRODID:-//ChamberMaster//Event Calendar 2.0//EN
METHOD:PUBLISH
X-PUBLISHED-TTL:P3D
REFRESH-INTERVAL:P3D
CALSCALE:GREGORIAN
BEGIN:VEVENT
DTSTART:20110930T140000Z
DTEND:20110930T170000Z
X-MICROSOFT-CDO-ALLDAYEVENT:FALSE
SUMMARY:Economic Outlook 2012
DESCRIPTION:Online pre-registration has now closed.\n\nA limited number of seats will be available for \npurchase on-site\, click  here\nto RSVP.\n\n\n\n\n\n\n7:00 am: Check-In\n\n7:30-10:00 am: Economic Outlook 2012 Breakfast\nThe latest research and analysis on real estate and economic trends from \nindustry insiders will be revealed at the Greater Phoenix Chamber of Commerce \nand Cox Communications' Economic Outlook 2012.\nEconomic Outlook 2012 will present information from three speakers: Dr. Angel \nCabrera from Thunderbird School of Global Management\, Dr. Beckie Holmes of Cox \nCommunications and Elliott Pollack of Elliott D. Pollack & Company.\n\n\n\nIn early 2011\, Governor Jan Brewer signed into law The Arizona Competitiveness Package. This progressive legislation positions Arizona as more competitive in the attraction and retention of business and it stimulates the creation of high-wage\, stable jobs.  In addition to supporting business growth incentives\, the legislation also established the new Arizona Commerce Authority as a public-private entity. The new ACA is supported by a 31-member board made up of impressive Arizona business leaders\, top government officials\, university presidents and other important leaders including representation of Arizona's rural business needs. Governor Brewer is the Board Chair and Arizona sports and business leader\, Jerry Colangelo serves as Co-Chair. Arizona visionary business leader Donald Cardon is the President and CEO of the new ACA. Come hear from ACA leadership as they share information about this exciting new focus for economic development in Arizona. \nNo refunds will be made for cancellations within three business days of the event.\n\n\n\nMedia Partners:\n<tabl
X-ALT-DESC;FMTTYPE=text/html:\n<p>\n\n\n\n<center><strong><font color="red">Online pre-registration has now closed.</font></strong><br />\nA limited number of seats will be available for \npurchase on-site\, click  <a href="mailto:nsommers@phoenixchamber.com">here</a>\nto RSVP.</center></p>\n<br><br>\n\n\n<p >\n7:00 am: Check-In<br>\n7:30-10:00 am: Economic Outlook 2012 Breakfast</p>\n<p>The latest research and analysis on real estate and economic&nbsp\;trends from \nindustry insiders will be revealed at the Greater Phoenix Chamber of Commerce \nand Cox Communications' Economic Outlook 2012.</p>\n<p>Economic Outlook 2012 will present information from three speakers: Dr. Angel \nCabrera from Thunderbird School of Global Management\, Dr. Beckie Holmes of Cox \nCommunications and Elliott Pollack of Elliott D. Pollack &amp\; Company.</p>\n\n<p>\n\nIn early 2011\, Governor Jan Brewer signed into law The Arizona Competitiveness Package. This progressive legislation positions Arizona as more competitive in the attraction and retention of business and it stimulates the creation of high-wage\, stable jobs.  In addition to supporting business growth incentives\, the legislation also established the new Arizona Commerce Authority as a public-private entity. The new ACA is supported by a 31-member board made up of impressive Arizona business leaders\, top government officials\, university presidents and other important leaders including representation of Arizona's rural business needs. Governor Brewer is the Board Chair and Arizona sports and business leader\, Jerry Colangelo serves as Co-Chair. Arizona visionary business leader Donald Cardon is the President and CEO of the new ACA. Come hear from ACA leadership as they share information about this exciting new focus for economic development in Arizona. </p>\n<p >No refunds will be made for cancellations within three business days of the event.</p>\n\n\n\n<p><font face="Arial" style="font-size: 9pt\; font-weight: 700" color="#666666">Media Partners:</font></p>\n<tabl
LOCATION:340 N. 3rd St.\, Phoenix\, AZ 85004
UID:e.2665.2353
SEQUENCE:3
DTSTAMP:20260422T135850Z
URL:https://business.phoenixchamber.com/events/details/economic-outlook-2012-09-30-2011-2353
END:VEVENT

END:VCALENDAR
