BEGIN:VCALENDAR
VERSION:2.0
PRODID:-//ChamberMaster//Event Calendar 2.0//EN
METHOD:PUBLISH
X-PUBLISHED-TTL:P3D
REFRESH-INTERVAL:P3D
CALSCALE:GREGORIAN
BEGIN:VEVENT
DTSTART:20120914T140000Z
DTEND:20120914T170000Z
X-MICROSOFT-CDO-ALLDAYEVENT:FALSE
SUMMARY:Economic Outlook 2013
DESCRIPTION:Online registration has now closed.\n\nFor questions please call us at 602.495.2182\n\n\n\n\n\n\n\n\n\n\nEarly bird pricing ends on August 24\, 2012. \n\n\n\nEarly Bird Pricing\n\nChamber Members: $65\n\nNon-Members Individual: $75\n\nMember table of 10: $750\n\nNon-Members table of 10: $850\n\n\n-->\n\n\n\n\nOnline registration has now closed.\n\nFor questions please call us at 602.495.2182\n\n\n\n\n\n\n\n7:00 am: Check-In\n\n7:30-10:00 am: Economic Outlook 2013 Breakfast\nThe latest research and analysis on real estate and economic trends from industry insiders will be revealed at the Greater Phoenix Chamber of Commerce and Cox Communications' 30th Annual Economic Outlook 2013.\nEconomic Outlook 2013\, featuring a new international perspective\,  will present information from  three speakers: Paul Thomas\, Chief Economist and Manager of Market Sizing and Forecasting at Intel Corporation\, Dr. Beckie Holmes of Cox Communications and Elliott Pollack of Elliott D. Pollack   font-weight: 700" color="#666666">Media Partners:
X-ALT-DESC;FMTTYPE=text/html:<!--\n<p>\n\n\n\n<center><strong><font color="red">Online registration has now closed.</font></strong><br />\nFor questions please call us at 602.495.2182</center></p>\n<br><br>\n\n\n\n\n\n\n\nEarly bird pricing ends on August 24\, 2012. <br><br>\n\n<b>Early Bird Pricing</b><br>\nChamber Members: $65<br>\nNon-Members Individual: $75<br>\nMember table of 10: $750<br>\nNon-Members table of 10: $850<br>\n\n-->\n\n<p >\n\n\n<center><strong><font color="red">Online registration has now closed.</font></strong><br />\nFor questions please call us at 602.495.2182</center></p>\n<br><br>\n\n\n\n</p><p>\n7:00 am: Check-In<br>\n7:30-10:00 am: Economic Outlook 2013 Breakfast</p>\n<p>The latest research and analysis on real estate and economic trends from industry insiders will be revealed at the Greater Phoenix Chamber of Commerce and Cox Communications' 30th Annual Economic Outlook 2013.</p>\n<p>Economic Outlook 2013\, featuring a new international perspective\,  will present information from  three speakers: Paul Thomas\, Chief Economist and Manager of Market Sizing and Forecasting at Intel Corporation\, Dr. Beckie Holmes of Cox Communications and Elliott Pollack of Elliott D. Pollack & Company.</p>\n\n<p>\n\n\n\nDo you have any questions about the state of our\ninternational\, national or local economies? Tweet\nthem to @phxchamber using #eo2013 and your\nquestion may be selected during our Interactive Presenter\nQ&A at Economic Outlook 2013.\n\n\n\n\n\n</p>\n\n\n\n\n\n\n\n<p >Reserve your seats and tables today! Early bird pricing ends on August 24\, 2012</p>\n<p >Registration for this event closes on Monday\, September 10th at 5 p.m. Payments must be made in advance and no refunds will be given for cancellations made after 5 p.m. on Monday\, September 10th. </p>\n\n\n\n\n<p><font face="Arial" style="font-size: 9pt\; font-weight: 700" color="#666666">Media Partners:</font></p>\n<table>\n	<tr>\n		<td><font face="Arial" style="font-size: 9pt"><a target="_blank" href="http://jobing.com">
LOCATION:2400 E. Missouri Ave.\, Phoenix\, AZ 85016
UID:e.2665.2592
SEQUENCE:3
DTSTAMP:20260421T200046Z
URL:https://business.phoenixchamber.com/events/details/economic-outlook-2013-09-14-2012-2592
END:VEVENT

END:VCALENDAR
