BEGIN:VCALENDAR
VERSION:2.0
PRODID:-//ChamberMaster//Event Calendar 2.0//EN
METHOD:PUBLISH
X-PUBLISHED-TTL:P3D
REFRESH-INTERVAL:P3D
CALSCALE:GREGORIAN
BEGIN:VEVENT
DTSTART:20100218T210000Z
DTEND:20100218T220000Z
X-MICROSOFT-CDO-ALLDAYEVENT:FALSE
SUMMARY:Education Committee Meeting
DESCRIPTION:.style1 {\n	font-family: Arial\;\n	font-size: 9pt\;\n	color: #666666\;\n}\n.style2 {\n	text-decoration: underline\;\n}\n.style4 {\n	font-size: 9pt\;\n}\n\n\n\n\n\n\nThe Greater Phoenix Chamber of Commerce offers more than 9 committees to get involved with and let your voice be heard. Each committee evaluates legislation and policy initiatives\, in order to make position recommendations to the Public Affairs Committee.\n\n\nEducation Committee:   Focuses on issues relating to workforce development\, ensuring accountability and academic performance\, and advocates for adequate and efficient fiscal management and funding systems.
X-ALT-DESC;FMTTYPE=text/html:\n<head>\n<style type="text/css">\n.style1 {\n	font-family: Arial\;\n	font-size: 9pt\;\n	color: #666666\;\n}\n.style2 {\n	text-decoration: underline\;\n}\n.style4 {\n	font-size: 9pt\;\n}\n</style>\n</head>\n\n<body class="style1">\n\n<br><font class="style4" size="2">The Greater Phoenix Chamber of Commerce offers more than 9 committees to get involved with and let your voice be heard. Each committee evaluates legislation and policy initiatives\, in order to make position recommendations to the Public Affairs Committee.<strong><span class="style2"><br>\n<br>Education Committee: </span>&nbsp\; </strong>Focuses on issues relating to workforce development\, ensuring accountability and academic performance\, and advocates for adequate and efficient fiscal management and funding systems. \n<br>
LOCATION:201 N. Central Ave.\, Ste. 2700\, Phoenix\, AZ 85004
UID:e.2665.1993
SEQUENCE:3
DTSTAMP:20260423T200837Z
URL:https://business.phoenixchamber.com/events/details/education-committee-meeting-02-18-2010-1993
END:VEVENT

END:VCALENDAR
