BEGIN:VCALENDAR
VERSION:2.0
PRODID:-//ChamberMaster//Event Calendar 2.0//EN
METHOD:PUBLISH
X-PUBLISHED-TTL:P3D
REFRESH-INTERVAL:P3D
CALSCALE:GREGORIAN
BEGIN:VEVENT
DTSTART:20090915T180000Z
DTEND:20090915T190000Z
X-MICROSOFT-CDO-ALLDAYEVENT:FALSE
SUMMARY:Employee Relations Issue Committee Meeting
DESCRIPTION:.style1 {\n	font-family: Arial\;\n	font-size: 9pt\;\n	color: #666666\;\n}\n.style4 {\n	font-family: Arial\;\n}\n.style5 {\n	font-size: 9pt\;\n}\n.style6 {\n	color: #666666\;\n}\n.style7 {\n	text-decoration: underline\;\n}\n\n\n\n\n\nThe Greater Phoenix Chamber of Commerce offers more than 9 \ncommittees to get involved with and let your voice be heard. Each committee \nevaluates legislation and policy initiatives\, in order to make position \nrecommendations to the Public Affairs Committee.\n\n\nEmployee Relations Committee:  Advocates for employment policies that encourage job retention\, job creation and continued business expansion.  Also supports the rights of employers to determine appropriate employment policies and procedures as best fits the needs of their business.
X-ALT-DESC;FMTTYPE=text/html:\n<head>\n<style type="text/css">\n.style1 {\n	font-family: Arial\;\n	font-size: 9pt\;\n	color: #666666\;\n}\n.style4 {\n	font-family: Arial\;\n}\n.style5 {\n	font-size: 9pt\;\n}\n.style6 {\n	color: #666666\;\n}\n.style7 {\n	text-decoration: underline\;\n}\n</style>\n</head>\n\n<strong><br class="style1"></strong><span class="style1">\nThe Greater Phoenix Chamber of Commerce offers more than 9 \ncommittees to get involved with and let your voice be heard. Each committee \nevaluates legislation and policy initiatives\, in order to make position \nrecommendations to the Public Affairs Committee.<strong><br><br>\n<span class="style7">Employee Relations Committee:</span></strong></span><span class="style4"><span class="style5"><span class="style6">&nbsp\; Advocates for employment policies that encourage job retention\, job creation and continued business expansion.  Also supports the rights of employers to determine appropriate employment policies and procedures as best fits the needs of their business.</span></span></span></span><br class="style1">\n<span class="style1">
LOCATION:201 N. Central Ave.\, Ste. 2700\, Phoenix\, AZ 85004
UID:e.2665.1838
SEQUENCE:3
DTSTAMP:20260424T033711Z
URL:https://business.phoenixchamber.com/events/details/employee-relations-issue-committee-meeting-09-15-2009-1838
END:VEVENT

END:VCALENDAR
