BEGIN:VCALENDAR
VERSION:2.0
PRODID:-//ChamberMaster//Event Calendar 2.0//EN
METHOD:PUBLISH
X-PUBLISHED-TTL:P3D
REFRESH-INTERVAL:P3D
CALSCALE:GREGORIAN
BEGIN:VEVENT
DTSTART:20091020T180000Z
DTEND:20091020T190000Z
X-MICROSOFT-CDO-ALLDAYEVENT:FALSE
SUMMARY:Employee Relations Issue Committee Meeting
DESCRIPTION:.style5 {\n	font-family: Arial\;\n	color: #666666\;\n}\n.style8 {\n	text-decoration: underline\;\n}\n.style9 {\n	font-size: 9pt\;\n}\n.style10 {\n	font-family: Arial\;\n	color: #666666\;\n	font-size: 9pt\;\n}\n\n\n\n\n\nThe Greater Phoenix Chamber of Commerce offers more than 9 committees to get involved with and let your voice be heard. Each committee evaluates legislation and policy initiatives\, in order to make position recommendations to the Public Affairs Committee.\n\n\n\n\n\n\nEmployee Relations Committee: Advocates for employment policies that encourage job retention\, job creation and continued business expansion.  Also supports the rights of employers to determine appropriate employment policies and procedures as best fits the needs of their business.\n\n\nGuest Speaker:\n\n\nLaura McGrory  \n\n\nIndustrial Commission of Arizona
X-ALT-DESC;FMTTYPE=text/html:\n<head>\n<style type="text/css">\n.style5 {\n	font-family: Arial\;\n	color: #666666\;\n}\n.style8 {\n	text-decoration: underline\;\n}\n.style9 {\n	font-size: 9pt\;\n}\n.style10 {\n	font-family: Arial\;\n	color: #666666\;\n	font-size: 9pt\;\n}\n</style>\n</head>\n\n<strong><br class="style10"></strong><span class="style5">\n<span class="style9">The Greater Phoenix Chamber of Commerce offers more than 9 committees to get involved with and let your voice be heard. Each committee evaluates legislation and policy initiatives\, in order to make position recommendations to the Public Affairs Committee.\n\n</span>\n\n<strong>\n<span class="style8"><br class="style9"><br class="style9"><span class="style9">Employee Relations Committee:</span></span></strong><span class="style9"> Advocates for employment policies that encourage job retention\, job creation and continued business expansion.  Also supports the rights of employers to determine appropriate employment policies and procedures as best fits the needs of their business.</span></span><br class="style10">\n<br class="style10"><span class="style5"><span class="style9">Guest Speaker:</span><br class="style9">\n<br class="style9"><span class="style9">Laura McGrory </span> \n<br class="style9">\n<span class="style9">Industrial Commission of Arizona</span></span>
LOCATION:201 N. Central Ave.\, Ste. 2700\, Phoenix\, AZ 85004
UID:e.2665.1848
SEQUENCE:3
DTSTAMP:20260424T020852Z
URL:https://business.phoenixchamber.com/events/details/employee-relations-issue-committee-meeting-10-20-2009-1848
END:VEVENT

END:VCALENDAR
