BEGIN:VCALENDAR
VERSION:2.0
PRODID:-//ChamberMaster//Event Calendar 2.0//EN
METHOD:PUBLISH
X-PUBLISHED-TTL:P3D
REFRESH-INTERVAL:P3D
CALSCALE:GREGORIAN
BEGIN:VEVENT
DTSTART:20091006T183000Z
DTEND:20091006T200000Z
X-MICROSOFT-CDO-ALLDAYEVENT:FALSE
SUMMARY:EVENT AT CAPACITY---Professional Women's Roundtable
DESCRIPTION:.style1 {\n	font-family: Arial\;\n	font-size: x-small\;\n	color: #666666\;\n}\n\n\n\n\n\n\n\n\nThe Power of Your Professional Image\n\n\n\nSpeaker: Janice Hurley-Trailor\n\n\n\nJanice Hurley-Trailor\, the Image Expert\, magnifies the power of your personal presence to\nopen doors for your success. She addresses every business detail\, including the clients' first\nperceptions of a company and its team members.\n\n\n\nThis program will open up the discussion of just how important your professional\nimage is to your professional success – how in the ''blink of an eye'' others decide how\napproachable you are\, and also\, how competent. Bring your questions and your sense of\nhumor. You are sure to leave with new insights on the power of your professional image!
X-ALT-DESC;FMTTYPE=text/html:\n<head>\n<style type="text/css">\n.style1 {\n	font-family: Arial\;\n	font-size: x-small\;\n	color: #666666\;\n}\n</style>\n</head>\n\n<body class="style1" style="font-size: 9pt">\n\n\n<br>\n<strong>The Power of Your Professional Image\n\n</strong><br><br><strong>Speaker:</strong> Janice Hurley-Trailor<br><br>\n\nJanice Hurley-Trailor\, the Image Expert\, magnifies the power of your personal presence to\nopen doors for your success. She addresses every business detail\, including the clients' first\nperceptions of a company and its team members.<br><br>\n\nThis program will open up the discussion of just how important your professional\nimage is to your professional success – how in the ''blink of an eye'' others decide how\napproachable you are\, and also\, how competent. Bring your questions and your sense of\nhumor. You are sure to leave with new insights on the power of your professional image!
LOCATION:201 N. Central Ave.\, Ste. 2700\, Phoenix\, AZ 85004
UID:e.2665.1831
SEQUENCE:3
DTSTAMP:20260424T020912Z
URL:https://business.phoenixchamber.com/events/details/event-at-capacity-professional-women-s-roundtable-10-06-2009-1831
END:VEVENT

END:VCALENDAR
