BEGIN:VCALENDAR
VERSION:2.0
PRODID:-//ChamberMaster//Event Calendar 2.0//EN
METHOD:PUBLISH
X-PUBLISHED-TTL:P3D
REFRESH-INTERVAL:P3D
CALSCALE:GREGORIAN
BEGIN:VEVENT
DTSTART:20091118T003000Z
DTEND:20091118T023000Z
X-MICROSOFT-CDO-ALLDAYEVENT:FALSE
SUMMARY:EVENT FULL-Valley Young Professionals WINE TASTING
DESCRIPTION:.style1 {\n	font-family: Arial\;\n	font-size: 9pt\;\n	color: #666666\;\n}\n\n\n\n\n\n\nJoin VYP as we celebrate the\nholidays with a wine-tasting event!\nEnjoy light appetizers and the\nbeautiful Il Terrazo at the Phoenician.\nA $15 admission will allow you to\ntaste eight different wine selections.\nA cash bar will also be available with\n$5 wine selections.\n\nCome relax with a glass of wine and\ncatch up on holiday plans with other\nyoung professionals. We hope to see\nyou there!\n\n\nLimited spaces available.\n\n\nOnline registration only.
X-ALT-DESC;FMTTYPE=text/html:\n<head>\n<style type="text/css">\n.style1 {\n	font-family: Arial\;\n	font-size: 9pt\;\n	color: #666666\;\n}\n</style>\n</head>\n\n<body class="style1">\n\n\nJoin VYP as we celebrate the\nholidays with a wine-tasting event!\nEnjoy light appetizers and the\nbeautiful Il Terrazo at the Phoenician.\nA $15 admission will allow you to\ntaste eight different wine selections.\nA cash bar will also be available with\n$5 wine selections.<p></p>\n\nCome relax with a glass of wine and\ncatch up on holiday plans with other\nyoung professionals. We hope to see\nyou there!<p></p>\n\n\nLimited spaces available.<br>\n\nOnline registration only.
LOCATION:6000 E. Camelback Rd.\, Scottsdale\, AZ 85251
UID:e.2665.1842
SEQUENCE:3
DTSTAMP:20260424T020859Z
URL:https://business.phoenixchamber.com/events/details/event-full-valley-young-professionals-wine-tasting-11-17-2009-1842
END:VEVENT

END:VCALENDAR
