BEGIN:VCALENDAR
VERSION:2.0
PRODID:-//ChamberMaster//Event Calendar 2.0//EN
METHOD:PUBLISH
X-PUBLISHED-TTL:P3D
REFRESH-INTERVAL:P3D
CALSCALE:GREGORIAN
BEGIN:VEVENT
DTSTART:20100504T193000Z
DTEND:20100505T020000Z
X-MICROSOFT-CDO-ALLDAYEVENT:FALSE
SUMMARY:Golf Shoot-Out at South Mountain
DESCRIPTION:Enjoy raffle prizes\, a post tournament awards program and Mexican buffet at the \nGolf Shoot-Out at South Mountain!  This event promotes the communities of \nLaveen and South Phoenix/South Mountain. South Mountain Community College \nScholarship Fund and Girl Scouts Summer Camp Program are also benefitted in \npart.\nShot-gun start:  \n12:30 pm\nAwards \nInformation:\n\n1st & 2nd Place Tournament Awards—Men or Mixed Team low \nnet\; \n1st Place award to Women Team low net.\nCloset to the Pin \n(CP) prizes on all \nPar 3's\; \nLongest Drive Men and Longest Drive Women prize on designated long drive hole.\nBetween the 9's \nputting contest and Molly Award chipping contest award benefiting Local Girl \nScouts Summer Camp Program.\nInterested in \nsponsorship? Contact Steve Glueck for more information! sglueck@phoenixchamber.com \nor 602.495.6469.\n\nNo refunds will be \nmade for cancellations within 72 hours of the event..
X-ALT-DESC;FMTTYPE=text/html:<head>\n</head>\n\n<p><font face="Arial" style="font-size: 9pt\; " color="#666666">\nEnjoy raffle prizes\, a post tournament awards program and Mexican buffet at the \nGolf Shoot-Out at South Mountain!&nbsp\; This event promotes the communities of \nLaveen and South Phoenix/South Mountain. South Mountain Community College \nScholarship Fund and Girl Scouts Summer Camp Program are also benefitted in \npart.</font></p>\n<p><font face="Arial" style="font-size: 9pt" color="#666666">Shot-gun start:&nbsp\; \n12:30 pm</font></p>\n<p><font face="Arial" style="font-size: 9pt" color="#666666"><b>Awards \nInformation:</b><br><br>1st &amp\; 2nd Place Tournament Awards—Men or Mixed Team low \nnet\; <br>1st Place award to Women Team low net.</font></p>\n<p><font face="Arial" style="font-size: 9pt" color="#666666">Closet to the Pin \n(CP) prizes on all \nPar 3's\; <br>Longest Drive Men and Longest Drive Women prize on designated long drive hole.</font></p>\n<p><font face="Arial" style="font-size: 9pt" color="#666666">Between the 9's \nputting contest and Molly Award chipping contest award benefiting Local Girl \nScouts Summer Camp Program.</font></p>\n<p><font face="Arial" style="font-size: 9pt" color="#666666">Interested in \nsponsorship? Contact Steve Glueck for more information! sglueck@phoenixchamber.com \nor 602.495.6469.<br><br>No refunds will be \nmade for cancellations within 72 hours of the event..</font></p>\n\n
LOCATION:701 E. Thunderbird Trail\, Phoenix\, AZ 85042
UID:e.2665.2030
SEQUENCE:3
DTSTAMP:20260423T150143Z
URL:https://business.phoenixchamber.com/events/details/golf-shoot-out-at-south-mountain-05-04-2010-2030
END:VEVENT

END:VCALENDAR
