BEGIN:VCALENDAR
VERSION:2.0
PRODID:-//ChamberMaster//Event Calendar 2.0//EN
METHOD:PUBLISH
X-PUBLISHED-TTL:P3D
REFRESH-INTERVAL:P3D
CALSCALE:GREGORIAN
BEGIN:VEVENT
DTSTART:20120202T143000Z
DTEND:20120202T153000Z
X-MICROSOFT-CDO-ALLDAYEVENT:FALSE
SUMMARY:GPCC Ambassadors Meeting
DESCRIPTION:You can always see the smiling faces of our Ambassadors at a Chamber event. \nThese dedicated business professionals serve as greeters and facilitate networking \nat Chamber events. They also help promote mission of the Chamber as representatives at grand openings and \nribbon-cutting ceremonies. This committee meets on the 1st Thursday of each \nmonth from 7:30 - 8:30 a.m. in the Chamber's boardroom.\n\n\nClick here to see the Ambassador \nroster.
X-ALT-DESC;FMTTYPE=text/html:\n<p>\nYou can always see the smiling faces of our Ambassadors at a Chamber event. \nThese dedicated business professionals serve as greeters and facilitate networking \nat Chamber events. They also help promote mission of the Chamber as representatives at grand openings and \nribbon-cutting ceremonies. This committee meets on the 1st Thursday of each \nmonth from 7:30 - 8:30 a.m. in the Chamber's boardroom.</p>\n<p>\n<a target="_blank" href="http://phoenixchamber.com/sites/default/files/pdf/ambassador_roster.pdf">\nClick here</a><span >&nbsp\;</span>to see the Ambassador \nroster.</p>
LOCATION:201 N. Central Ave.\, Ste. 2700\, Phoenix\, AZ 85004
UID:e.2665.2343
SEQUENCE:3
DTSTAMP:20260422T060039Z
URL:https://business.phoenixchamber.com/events/details/gpcc-ambassadors-meeting-02-02-2012-2343
END:VEVENT

END:VCALENDAR
