BEGIN:VCALENDAR
VERSION:2.0
PRODID:-//ChamberMaster//Event Calendar 2.0//EN
METHOD:PUBLISH
X-PUBLISHED-TTL:P3D
REFRESH-INTERVAL:P3D
CALSCALE:GREGORIAN
BEGIN:VEVENT
DTSTART:20120607T143000Z
DTEND:20120607T153000Z
X-MICROSOFT-CDO-ALLDAYEVENT:FALSE
SUMMARY:GPCC Ambassadors Meeting
DESCRIPTION:You can always see the smiling faces of our Ambassadors at a Chamber event. \nThese dedicated business professionals serve as greeters\, facilitate networking \nand encourage participation. They help with event registration\, contact members \nto share business experiences and represent the Chamber at grand openings and \nribbon-cutting ceremonies. This committee meets on the 1st Thursday of each \nmonth from 7:30 - 8:30 a.m. in the Chamber's boardroom.\n\n\nClick here to see the Ambassador \nroster.
X-ALT-DESC;FMTTYPE=text/html:\n<p>\nYou can always see the smiling faces of our Ambassadors at a Chamber event. \nThese dedicated business professionals serve as greeters\, facilitate networking \nand encourage participation. They help with event registration\, contact members \nto share business experiences and represent the Chamber at grand openings and \nribbon-cutting ceremonies. This committee meets on the 1st Thursday of each \nmonth from 7:30 - 8:30 a.m. in the Chamber's boardroom.</p>\n<p>\n<a target="_blank" href="http://phoenixchamber.com/sites/default/files/pdf/ambassador_roster.pdf">\nClick here</a><span >&nbsp\;</span>to see the Ambassador \nroster.</p>
LOCATION:201 N. Central Ave.\, Ste. 2700\, Phoenix\, AZ 85004
UID:e.2665.2346
SEQUENCE:3
DTSTAMP:20260422T005056Z
URL:https://business.phoenixchamber.com/events/details/gpcc-ambassadors-meeting-06-07-2012-2346
END:VEVENT

END:VCALENDAR
