BEGIN:VCALENDAR
VERSION:2.0
PRODID:-//ChamberMaster//Event Calendar 2.0//EN
METHOD:PUBLISH
X-PUBLISHED-TTL:P3D
REFRESH-INTERVAL:P3D
CALSCALE:GREGORIAN
BEGIN:VEVENT
DTSTART:20110804T143000Z
DTEND:20110804T160000Z
X-MICROSOFT-CDO-ALLDAYEVENT:FALSE
SUMMARY:GPCC Ambassadors Meeting
DESCRIPTION:You can always see the smiling faces of our Ambassadors at Chamber events. These dedicated business professionals serve as greeters\, facilitate networking and encourage participation. They help with event registration\, contact members to share business experiences and represent the Chamber at grand openings and ribbon-cutting ceremonies. This committee meets on the 1st Thursday of each month from 7:30 - 8:30am in the Chamber's boardroom. Immediately following the meeting\, Jerry Acuff from Integrity Systems will speak on the importance of building relationships in order to boost your business.\n\n\nClick here to see the Ambassador \nroster.
X-ALT-DESC;FMTTYPE=text/html:\n<p>\nYou can always see the smiling faces of our Ambassadors at Chamber events. These dedicated business professionals serve as greeters\, facilitate networking and encourage participation. They help with event registration\, contact members to share business experiences and represent the Chamber at grand openings and ribbon-cutting ceremonies. This committee meets on the 1st Thursday of each month from 7:30 - 8:30am in the Chamber's boardroom. Immediately following the meeting\, Jerry Acuff from Integrity Systems will speak on the importance of building relationships in order to boost your business.</p>\n<p>\n<a target="_blank" href="http://phoenixchamber.com/sites/default/files/pdf/ambassador_roster.pdf">\nClick here</a><span >&nbsp\;</span>to see the Ambassador \nroster.</p>
LOCATION:201 N. Central Ave.\, Ste. 2700\, Phoenix\, AZ 85004
UID:e.2665.2318
SEQUENCE:3
DTSTAMP:20260422T171305Z
URL:https://business.phoenixchamber.com/events/details/gpcc-ambassadors-meeting-08-04-2011-2318
END:VEVENT

END:VCALENDAR
