BEGIN:VCALENDAR
VERSION:2.0
PRODID:-//ChamberMaster//Event Calendar 2.0//EN
METHOD:PUBLISH
X-PUBLISHED-TTL:P3D
REFRESH-INTERVAL:P3D
CALSCALE:GREGORIAN
BEGIN:VEVENT
DTSTART:20121205T183000Z
DTEND:20121205T200000Z
X-MICROSOFT-CDO-ALLDAYEVENT:FALSE
SUMMARY:GPCC Association Safety Program Seminar - Be a hero\; help your organization save money and create a safer work environment
DESCRIPTION:In many companies\, workers' compensation insurance premiums are a major cost. These premiums can be reduced by minimizing workplace injuries that result in claims for medical and lost time expenses.\n\nThe Greater Phoenix Chamber of Commerce is offering a FREE safety seminar on Wednesday\, December 5th that will help you administer a safety program for your organization. \n\n Topics presented will include:\n *   Increasing awareness of workplace hazards and minimizing risk exposure through corrective actions.\n *   Implementing an effective ''back to work'' program to reduce costs incurred for workplace injuries.\n\n\nFor questions\, contact Ron McElhaney - rmcelhaney@phoenixchamber.com or (602) 495-6486.\n\n\nReasons to Be There: \n1.   Free Lunch\n2.   $10 Gas Card for First 30 Registrants\n3.   Drawing for 2 Southwest Airlines Round Trip \nTickets\n4.   Most Importantly -- Free Information \nAbout How to Improve Safety in the Workplace and to Save Your Company Money.
X-ALT-DESC;FMTTYPE=text/html:\n<p>In many companies\, workers' compensation insurance premiums are a major cost. These premiums can be reduced by minimizing workplace injuries that result in claims for medical and lost time expenses.<br><br>The Greater Phoenix Chamber of Commerce is offering a <b>FREE</b> safety seminar on Wednesday\, December 5th that will help you administer a safety program for your organization. \n\n<p><b> Topics presented will include:</b>\n<p> * &nbsp\;&nbsp\;Increasing awareness of workplace hazards and minimizing risk exposure through corrective actions.\n<p> * &nbsp\;&nbsp\;Implementing an effective ''back to work'' program to reduce costs incurred for workplace injuries.\n\n\n<p><i>For questions\, contact Ron McElhaney - rmcelhaney@phoenixchamber.com or (602) 495-6486.</p></i>\n\n\n<p><b>Reasons to Be There:</b> </p>\n<p>1. &nbsp\;&nbsp\;Free Lunch</p>\n<p>2.&nbsp\; &nbsp\;$10 Gas Card for First 30 Registrants</p>\n<p>3.&nbsp\; &nbsp\;Drawing for 2 Southwest Airlines Round Trip \nTickets</p>\n<p>4. &nbsp\;&nbsp\;<u>Most Importantly</u> -- Free Information \nAbout How to Improve Safety in the Workplace and to Save Your Company Money.\n</p>\n\n\n
LOCATION:Headquarters Conference Room\, Phoenix\, AZ 85021
UID:e.2665.2701
SEQUENCE:3
DTSTAMP:20260421T131641Z
URL:https://business.phoenixchamber.com/events/details/gpcc-association-safety-program-seminar-be-a-hero-help-your-organization-save-money-and-create-a-safer-work-environment-12-05-2012-2701
END:VEVENT

END:VCALENDAR
