BEGIN:VCALENDAR
VERSION:2.0
PRODID:-//ChamberMaster//Event Calendar 2.0//EN
METHOD:PUBLISH
X-PUBLISHED-TTL:P3D
REFRESH-INTERVAL:P3D
CALSCALE:GREGORIAN
BEGIN:VEVENT
DTSTART:20091203T183000Z
DTEND:20091203T200000Z
X-MICROSOFT-CDO-ALLDAYEVENT:FALSE
SUMMARY:GPCC Safety Training: Slips\, Trips and Falls
DESCRIPTION:.style1 {\n	color: #666666\;\n}\n\n\n\n\n	\n		 Please join \n		the Chamber's Safety Committee for a meeting on how to improve workplace \n		safety and avoid unnecessary "Slips\, Trips and Falls."  \n		The meeting will be held in the Stone House Pavilion and attendees are \n		advised to arrive early enough to get lunch and be seated as the program \n		starts at 11:30 am.\n		\n		Please RSVP \n		for this event as lunch will be sponsored by the Chamber for all \n		attendees.  \n\n\n		The first 30 members to RSVP will also receive a $10 gas card and \n		there will be a drawing for two Southwest Airline tickets at the conclusion of the training.
X-ALT-DESC;FMTTYPE=text/html:\n<head>\n<style type="text/css">\n.style1 {\n	color: #666666\;\n}\n</style>\n</head>\n\n<div>\n	<div dir="ltr" align="left">\n		&nbsp\;<p class="style1"><font face="Arial" style="font-size: 9pt">Please join \n		the Chamber's Safety Committee for a meeting on how to improve workplace \n		safety and avoid unnecessary &quot\;Slips\, Trips and Falls.&quot\;&nbsp\; \n		The meeting will be held in the Stone House Pavilion and attendees are \n		advised to arrive early enough to get lunch and be seated as the program \n		starts at 11:30 am.</font></p>\n		<p><span class="442451023-18112008">\n		<font face="Arial" style="font-size: 9pt" class="style1">Please RSVP \n		for this event as <b>lunch</b> will be sponsored by the Chamber for all \n		attendees.&nbsp\; <br><br>\n		The first 30 members&nbsp\;to RSVP will also receive a <b>$10 gas card</b> and \n		there will be a drawing for <b>two Southwest Airline tickets</b> at the conclusion of the training.</font></span></div>\n</div>
LOCATION:455 N. Galvin Pkwy.\, Phoenix\, AZ 85008 Park in the main zoo parking lot\, walk across the bridge and enter at the main entrance. Once inside\, turn right and proceed to the Stone House Pavillion. Be sure to allow enough walking time to arrive at the meeting site\, gather your lunch and be ready for start of training at 11:30 AM.
UID:e.2665.1897
SEQUENCE:3
DTSTAMP:20260423T231634Z
URL:https://business.phoenixchamber.com/events/details/gpcc-safety-training-slips-trips-and-falls-12-03-2009-1897
END:VEVENT

END:VCALENDAR
