BEGIN:VCALENDAR
VERSION:2.0
PRODID:-//ChamberMaster//Event Calendar 2.0//EN
METHOD:PUBLISH
X-PUBLISHED-TTL:P3D
REFRESH-INTERVAL:P3D
CALSCALE:GREGORIAN
BEGIN:VEVENT
DTSTART:20090908T143000Z
DTEND:20090908T160000Z
X-MICROSOFT-CDO-ALLDAYEVENT:FALSE
SUMMARY:Green Roundtable Green Funding Resources
DESCRIPTION:.style1 {\n	font-family: Arial\;\n	color: #666666\;\n}\n.style2 {\n	font-size: 9pt\;\n}\n.style3 {\n	font-family: Arial\;\n	font-size: 9pt\;\n	color: #666666\;\n}\n\n\n\nFacilitated by: Stacy Wilde\, Syner-Green\, LLC\n \n\n\nJoin us for an informative panel discussion of Green finance options available for small businesses. Contrary to popular belief\, incentives\, rebates\, community resources and government grants are available \nand waiting to  benefit you and your business! Bring your questions and \nfind out how to pay for you Green initiatives from our three expert panel \nmembers\, facilitated by Stephanie Weigold\, Eco Consultant of Syner-Green\, LLC:  \nSolutions for Sustainability:\n\n\n• Mark Roberts\, CTP VP\, Commercial Loan Officer\, MidFirst Bank\n\n• Bryant Coleman\, President\, Incentives Advisors\n\n• Daniel Musgrove\, Regional Business Development Manager\, Chevron Energy Solutions\n\n\nYou will not want to miss this interactive presentation!
X-ALT-DESC;FMTTYPE=text/html:<head>\n<style type="text/css">\n.style1 {\n	font-family: Arial\;\n	color: #666666\;\n}\n.style2 {\n	font-size: 9pt\;\n}\n.style3 {\n	font-family: Arial\;\n	font-size: 9pt\;\n	color: #666666\;\n}\n</style>\n</head>\n\n<p class="style3"><strong>Facilitated by:</strong> Stacy Wilde\, Syner-Green\, LLC<br> \n</p>\n<font class="style2" SIZE="1">\n<p class="style1">Join us for an informative panel discussion of Green finance options available for small businesses. Contrary to popular belief\, incentives\, rebates\, community resources and government grants are available \nand waiting to&nbsp\; benefit you and your business! Bring your questions and \nfind out how to pay for you Green initiatives from our three expert panel \nmembers\, facilitated by Stephanie Weigold\, Eco Consultant of Syner-Green\, LLC:&nbsp\; \nSolutions for Sustainability:<br></p>\n\n<span class="style1">• Mark Roberts\, CTP VP\, Commercial Loan Officer\, MidFirst Bank\n<br>• Bryant Coleman\, President\, Incentives Advisors\n<br>• Daniel Musgrove\, Regional Business Development Manager\, Chevron Energy Solutions</span><br class="style1">\n\n<p class="style1">You will not want to miss this interactive presentation!</p>\n</font>
LOCATION:201 N. Central Ave.\, Ste. 2700\, Phoenix\, AZ 85004
UID:e.2665.1814
SEQUENCE:3
DTSTAMP:20260424T033658Z
URL:https://business.phoenixchamber.com/events/details/green-roundtable-green-funding-resources-09-08-2009-1814
END:VEVENT

END:VCALENDAR
