BEGIN:VCALENDAR
VERSION:2.0
PRODID:-//ChamberMaster//Event Calendar 2.0//EN
METHOD:PUBLISH
X-PUBLISHED-TTL:P3D
REFRESH-INTERVAL:P3D
CALSCALE:GREGORIAN
BEGIN:VEVENT
DTSTART:20090811T143000Z
DTEND:20090811T160000Z
X-MICROSOFT-CDO-ALLDAYEVENT:FALSE
SUMMARY:Green Roundtable Greenbuild 09: Understanding the New Green Economy
DESCRIPTION:.style1 {\n	font-family: Arial\;\n	color: #666666\;\n}\n.style2 {\n	font-size: 9pt\;\n}\n.style3 {\n	font-family: Arial\;\n	font-size: 9pt\;\n	color: #666666\;\n}\n\n\n\nSpeaker: Beth Vershure\, Executive Director\,\n \nArizona Host Committee\, Greenbuild 2009\n\nBeth Vershure has joined the Greenbuild 2009 event as the \nExecutive Director of the Arizona Host Committee. Greenbuild 2009 is the \nInternational Conference and Expo of the U.S. Green Building Council (USGBC) and \nwill take place November 11-13\, 2009 at the new Phoenix Convention Center.\nBeth's presentation will reference the business case for \nbuilding green\, the history and mission of the USGBC and getting people \nconnected to the green conversation and opportunities. Whether you attend \nGreenbuild 2009 or not\, the activities the week of the event (Green Street \ncelebration) are happening throughout metropolitan Phoenix and it's a great \nopportunity to learn more about the new green economy.
X-ALT-DESC;FMTTYPE=text/html:\n<head>\n<style type="text/css">\n.style1 {\n	font-family: Arial\;\n	color: #666666\;\n}\n.style2 {\n	font-size: 9pt\;\n}\n.style3 {\n	font-family: Arial\;\n	font-size: 9pt\;\n	color: #666666\;\n}\n</style>\n</head>\n\n<p class="style3"><strong>Speaker:</strong> Beth Vershure\, Executive Director\,<br> \nArizona Host Committee\, Greenbuild 2009</p>\n<font class="style2" SIZE="1">\n<p class="style1">Beth Vershure has joined the Greenbuild 2009 event as the \nExecutive Director of the Arizona Host Committee. Greenbuild 2009 is the \nInternational Conference and Expo of the U.S. Green Building Council (USGBC) and \nwill take place November 11-13\, 2009 at the new Phoenix Convention Center.</p>\n<p class="style1">Beth's presentation will reference the business case for \nbuilding green\, the history and mission of the USGBC and getting people \nconnected to the green conversation and opportunities. Whether you attend \nGreenbuild 2009 or not\, the activities the week of the event (Green Street \ncelebration) are happening throughout metropolitan Phoenix and it's a great \nopportunity to learn more about the new green economy.</p>\n</font>
LOCATION:201 N. Central Ave.\, Ste. 2700\, Phoenix\, AZ 85004
UID:e.2665.1808
SEQUENCE:3
DTSTAMP:20260424T043710Z
URL:https://business.phoenixchamber.com/events/details/green-roundtable-greenbuild-09-understanding-the-new-green-economy-08-11-2009-1808
END:VEVENT

END:VCALENDAR
