BEGIN:VCALENDAR
VERSION:2.0
PRODID:-//ChamberMaster//Event Calendar 2.0//EN
METHOD:PUBLISH
X-PUBLISHED-TTL:P3D
REFRESH-INTERVAL:P3D
CALSCALE:GREGORIAN
BEGIN:VEVENT
DTSTART:20100209T143000Z
DTEND:20100209T163000Z
X-MICROSOFT-CDO-ALLDAYEVENT:FALSE
SUMMARY:Green Roundtable Speed Networking
DESCRIPTION:.style1 {\n	font-family: Arial\;\n	font-size: 9pt\;\n	color: #666666\;\n}\n\n\nSpeed Networking\nJoin the Green Roundtable for a morning of ''speed \nnetworking'' in an effort to enhance and expand your networking opportunities \nwith other Green Businesses. This is a fun\, interactive and effective way to \ncreate initial connections without having to worry about ''breaking the ice." \nMake sure to bring some extra business cards!
X-ALT-DESC;FMTTYPE=text/html:<head>\n<style type="text/css">\n.style1 {\n	font-family: Arial\;\n	font-size: 9pt\;\n	color: #666666\;\n}\n</style>\n</head>\n<p class="style1">Speed Networking</p>\n<p><span class="style1">Join the Green Roundtable for a morning of ''speed \nnetworking'' in an effort to enhance and expand your networking opportunities \nwith other Green Businesses. This is a fun\, interactive and effective way to \ncreate initial connections without having to worry about ''breaking the ice.&quot\; \nMake sure to bring some extra business cards!</span><br class="style1"></p>\n\n<p>\n&nbsp\;</p>\n\n\n
LOCATION:201 N. Central Ave.\, Ste. 2700\, Phoenix\, AZ 85004
UID:e.2665.1895
SEQUENCE:3
DTSTAMP:20260423T200725Z
URL:https://business.phoenixchamber.com/events/details/green-roundtable-speed-networking-02-09-2010-1895
END:VEVENT

END:VCALENDAR
