BEGIN:VCALENDAR
VERSION:2.0
PRODID:-//ChamberMaster//Event Calendar 2.0//EN
METHOD:PUBLISH
X-PUBLISHED-TTL:P3D
REFRESH-INTERVAL:P3D
CALSCALE:GREGORIAN
BEGIN:VEVENT
DTSTART:20090714T143000Z
DTEND:20090714T160000Z
X-MICROSOFT-CDO-ALLDAYEVENT:FALSE
SUMMARY:Green Roundtable Speed-Networking!
DESCRIPTION:Join the Green Roundtable for a morning of "speed-networking" in an effort to \nenhance and expand your networking opportunities with other Green businesses. \nThis is a fun\, interactive\, and effective way to create initial connections \nwithout having to worry about "breaking the ice."
X-ALT-DESC;FMTTYPE=text/html:<font COLOR="#666666" face="Arial" style="font-size: 9pt">\n<p>Join the Green Roundtable for a morning of &quot\;speed-networking&quot\; in an effort to \nenhance and expand your networking opportunities with other Green businesses. \nThis is a fun\, interactive\, and effective way to create initial connections \nwithout having to worry about &quot\;breaking the ice.&quot\;</p>\n</font>\n<p>&nbsp\;</p>\n
LOCATION:201 N. Central Ave.\, Ste. 2700\, Phoenix\, AZ 85004
UID:e.2665.1797
SEQUENCE:3
DTSTAMP:20260424T055634Z
URL:https://business.phoenixchamber.com/events/details/green-roundtable-speed-networking-07-14-2009-1797
END:VEVENT

END:VCALENDAR
