BEGIN:VCALENDAR
VERSION:2.0
PRODID:-//ChamberMaster//Event Calendar 2.0//EN
METHOD:PUBLISH
X-PUBLISHED-TTL:P3D
REFRESH-INTERVAL:P3D
CALSCALE:GREGORIAN
BEGIN:VEVENT
DTSTART:20110512T223000Z
DTEND:20110513T020000Z
X-MICROSOFT-CDO-ALLDAYEVENT:FALSE
SUMMARY:HBLC Golf Clinic
DESCRIPTION:Network while improving your golf swing! The Greater Phoenix Chamber of Commerce's Hispanic Business Leadership Council invites you to The Venue at Stonecreek Golf Course in Phoenix. Learn from a golf pro during a 90-minute group golf clinic and enjoy a social hour with dinner and a cash bar. \n\n\n\nThis clinic is opened to only 60 participants. Groups will be assigned to a golf pro based on their skill level: Beginner\, Intermediate or Advanced.\n\n\n\nTIME\n\nGolf Clinic: 3:30pm\n\nSocial Hour: 5-7pm\n\n\n\nCOST\n\n$40 per person (Includes clinic & dinner)
X-ALT-DESC;FMTTYPE=text/html:\n<br>\n<font face="Arial" style="font-size: 9pt" color="#666666"><br>\n<br>\nNetwork while improving your golf swing! The Greater Phoenix Chamber of Commerce's Hispanic Business Leadership Council invites you to The Venue at Stonecreek Golf Course in Phoenix. Learn from a golf pro during a 90-minute group golf clinic and enjoy a social hour with dinner and a cash bar. <br><br>\n\nThis clinic is opened to only 60 participants. Groups will be assigned to a golf pro based on their skill level: Beginner\, Intermediate or Advanced.\n<br><br>\n<b>TIME</b><br>\nGolf Clinic: 3:30pm<br>\nSocial Hour: 5-7pm<br>\n<br>\n<b>COST</b><br>\n$40 per person (Includes clinic & dinner)\n\n\n</font>
LOCATION:The Venue at Stonecreek Golf Course\, Phoenix\, AZ 85032
UID:e.2665.2296
SEQUENCE:3
DTSTAMP:20260422T201922Z
URL:https://business.phoenixchamber.com/events/details/hblc-golf-clinic-05-12-2011-2296
END:VEVENT

END:VCALENDAR
