BEGIN:VCALENDAR
VERSION:2.0
PRODID:-//ChamberMaster//Event Calendar 2.0//EN
METHOD:PUBLISH
X-PUBLISHED-TTL:P3D
REFRESH-INTERVAL:P3D
CALSCALE:GREGORIAN
BEGIN:VEVENT
DTSTART:20090910T230000Z
DTEND:20090911T000000Z
X-MICROSOFT-CDO-ALLDAYEVENT:FALSE
SUMMARY:Health Care Issue Committee Meeting
DESCRIPTION:.style1 {\n	font-family: Arial\;\n	color: #666666\;\n	font-size: 9pt\;\n}\n.style2 {\n	text-decoration: underline\;\n}\n\n\n\n\nThe Greater Phoenix Chamber of Commerce offers more than 9 committees to get \ninvolved with and let your voice be heard. Each committee evaluates legislation \nand policy initiatives\, in order to make position recommendations to the Public \nAffairs Committee.\n\nHealth Care \nCommittee: \n  Advocates for affordable\, cost-effective and quality health care options for businesses and individuals—void of cost increases brought by unnecessary government regulation\, cost-shifting and coverage requirements\, and is supportive of individuals' privacy rights. \n\n\nGuest Speaker:\n\n\nReed Adamson\, Policy Advisor\nCongressman Harry Mitchell's Office
X-ALT-DESC;FMTTYPE=text/html:\n<head>\n<style type="text/css">\n.style1 {\n	font-family: Arial\;\n	color: #666666\;\n	font-size: 9pt\;\n}\n.style2 {\n	text-decoration: underline\;\n}\n</style>\n</head>\n\n<br class="style1"><span class="style1">The Greater Phoenix Chamber of Commerce offers more than 9 committees to get \ninvolved with and let your voice be heard. Each committee evaluates legislation \nand policy initiatives\, in order to make position recommendations to the Public \nAffairs Committee.<span class="style2"><br><br><strong>Health Care \nCommittee: </strong>\n</span><strong>&nbsp\; </strong>Advocates for affordable\, cost-effective and quality health care options for businesses and individuals—void of cost increases brought by unnecessary government regulation\, cost-shifting and coverage requirements\, and is supportive of individuals' privacy rights. \n</span><br class="style1"><br class="style1"><span class="style1">Guest Speaker:<br>\n<br>Reed Adamson\, Policy Advisor<br>Congressman Harry Mitchell's Office</span>
LOCATION:201 N. Central Ave.\, Ste. 2700\, Phoenix\, AZ 85004
UID:e.2665.1839
SEQUENCE:3
DTSTAMP:20260424T045210Z
URL:https://business.phoenixchamber.com/events/details/health-care-issue-committee-meeting-09-10-2009-1839
END:VEVENT

END:VCALENDAR
