BEGIN:VCALENDAR
VERSION:2.0
PRODID:-//ChamberMaster//Event Calendar 2.0//EN
METHOD:PUBLISH
X-PUBLISHED-TTL:P3D
REFRESH-INTERVAL:P3D
CALSCALE:GREGORIAN
BEGIN:VEVENT
DTSTART:20100128T170000Z
DTEND:20100128T183000Z
X-MICROSOFT-CDO-ALLDAYEVENT:FALSE
SUMMARY:Mentor Match 2010
DESCRIPTION:.style1 {\n	font-family: Arial\;\n	font-size: 9pt\;\n	color: #666666\;\n}\n.style4 {\n	text-align: left\;\n}\n\n\n\n\n\n\nMentor Match is the 2010 New Year's resolution event where \nbusiness owners will find four of the Valley's leading business mentoring \nprograms. Programs such as:\n\n \n\nThe Chamber's Athena Powerlink\, APS Academy for the Advancement of Small\, \nMinority and Women Owned \nEnterprises (AAAME)\, National Association of Women Business Owners' (NAWBO)\nPhoenix Mentoring Program\, \nMaricopa Small Business Development Center and Arizona Small Business Association's (ASBA) \nTraining Information Mentoring Education (T.I.M.E.) will be showcased in the \nChamber boardroom allowing business owners to discover which program best fits \ntheir business model. \n\n\nThe Mentor Match event will kickoff with a 10 minute \npresentation by each organization outlining their programs' requirements. \nAttendees will match these requirements to their business model and determine \nthe right mentorship program for their company. The event will conclude with a \n20 minute forum where business owners can speak to each representative\, ask \nquestions and identify which organization best fits their business. \n\n\nParking in the Chase Garage will be validated.\n\n \n\n<
X-ALT-DESC;FMTTYPE=text/html:\n<head>\n<style type="text/css">\n.style1 {\n	font-family: Arial\;\n	font-size: 9pt\;\n	color: #666666\;\n}\n.style4 {\n	text-align: left\;\n}\n</style>\n</head>\n\n<font face="Arial">\n</font>\n<p class="style4" style="margin-left: 0in\; margin-right: 0in\; margin-top: 0in\; margin-bottom: 0pt">\n<span class="style1">Mentor Match is the 2010 New Year's resolution event where \nbusiness owners will find four of the Valley's leading business mentoring \nprograms. Programs such as:</span></p>\n<p class="style4" style="margin-left: 0in\; margin-right: 0in\; margin-top: 0in\; margin-bottom: 0pt">\n&nbsp\;</p>\n<p class="style4" style="margin-left: 0in\; margin-right: 0in\; margin-top: 0in\; margin-bottom: 0pt">\nT<span class="style1">he Chamber's Athena Powerlink\, APS Academy for the Advancement of Small\, \nMinority and Women Owned \nEnterprises (AAAME)\, National Association of Women Business Owners' (NAWBO)\nPhoenix Mentoring Program\, \nMaricopa Small Business Development Center and Arizona Small Business Association's (ASBA) \nTraining Information Mentoring Education (T.I.M.E.) will be showcased in the \nChamber boardroom allowing business owners to discover which program best fits \ntheir business model. </span><br class="style1"><br class="style1">\n<span class="style1">The Mentor Match event will kickoff with a 10 minute \npresentation by each organization outlining their programs' requirements. \nAttendees will match these requirements to their business model and determine \nthe right mentorship program for their company. The event will conclude with a \n20 minute forum where business owners can speak to each representative\, ask \nquestions and identify which organization best fits their business. <br><br>\nParking in the Chase Garage will be validated.</span></p>\n<p class="style4" style="margin-left: 0in\; margin-right: 0in\; margin-top: 0in\; margin-bottom: 0pt">\n&nbsp\;</p>\n<p class="style4" style="margin-left: 0in\; margin-right: 0in\; margin-top: 0in\; margin-bottom: 0pt">\n<
LOCATION:201 N. Central Ave.\, Ste. 2700\, Phoenix\, AZ 85004
UID:e.2665.1914
SEQUENCE:3
DTSTAMP:20260423T215015Z
URL:https://business.phoenixchamber.com/events/details/mentor-match-2010-01-28-2010-1914
END:VEVENT

END:VCALENDAR
