BEGIN:VCALENDAR
VERSION:2.0
PRODID:-//ChamberMaster//Event Calendar 2.0//EN
METHOD:PUBLISH
X-PUBLISHED-TTL:P3D
REFRESH-INTERVAL:P3D
CALSCALE:GREGORIAN
BEGIN:VEVENT
DTSTART:20121010T141500Z
DTEND:20121010T153000Z
X-MICROSOFT-CDO-ALLDAYEVENT:FALSE
SUMMARY:Morning BlendSouth Mountain Laveen
DESCRIPTION:Join us to network with a variety of Chamber members! Attendees will get a chance to give a 30 second commercial about their business. Enjoy a continental breakfast and great business leads. Bring a business card to enter into a drawing for member door prizes!
X-ALT-DESC;FMTTYPE=text/html:\n<br>\n<font face="Arial" style="font-size: 9pt" color="#666666"><br>\n<br>\nJoin us to network with a variety of Chamber members! Attendees will get a chance to give a 30 second commercial about their business. Enjoy a continental breakfast and great business leads. Bring a business card to enter into a drawing for member door prizes! \n\n</font>
LOCATION:1375 E. Broadway Rd\, Phoenix\, AZ 85040
UID:e.2665.2502
SEQUENCE:3
DTSTAMP:20260421T163523Z
URL:https://business.phoenixchamber.com/events/details/morning-blendsouth-mountain-laveen-10-10-2012-2502
END:VEVENT

END:VCALENDAR
