BEGIN:VCALENDAR
VERSION:2.0
PRODID:-//ChamberMaster//Event Calendar 2.0//EN
METHOD:PUBLISH
X-PUBLISHED-TTL:P3D
REFRESH-INTERVAL:P3D
CALSCALE:GREGORIAN
BEGIN:VEVENT
DTSTART:20100616T150000Z
DTEND:20100616T160000Z
X-MICROSOFT-CDO-ALLDAYEVENT:FALSE
SUMMARY:NEW MEMBER OPEN HOUSE
DESCRIPTION:.style1 {\n	font-family: Arial\;\n	font-size: 9pt\;\n	color: #666666\;\n}\n\n\n\n\n\n\n\nCONGRATULATIONS ON JOINING THE GREATER PHOENIX CHAMBER OF COMMERCE! Join us for our New Member Open House and get acquainted with the Chamber staff and our members. Enjoy a brief program\, continental breakfast and plenty of time for networking with other new members. Don't miss this opportunity to introduce your business to the Chamber community. Bring plenty of business cards!\n\n\n\nPROGRAM:\n\n\n• Meet the Chamber President   Take the parking garage elevator down to the "T" level\, walk \nthrough the tunnel into the building\, up the stairs and take the center bank of \nelevator to the 27th floor.\n\n*Be sure to bring your parking ticket \nto the reception for validation.
X-ALT-DESC;FMTTYPE=text/html:\n<head>\n<style type="text/css">\n.style1 {\n	font-family: Arial\;\n	font-size: 9pt\;\n	color: #666666\;\n}\n</style>\n</head>\n\n<body class="style1"><br>\n\n\n<strong>CONGRATULATIONS ON JOINING THE GREATER PHOENIX CHAMBER OF COMMERCE!</strong> Join us for our New Member Open House and get acquainted with the Chamber staff and our members. Enjoy a brief program\, continental breakfast and plenty of time for networking with other new members. Don't miss this opportunity to introduce your business to the Chamber community. Bring plenty of business cards!<br></br>\n\n\nPROGRAM:<br>\n\n• Meet the Chamber President & CEO Todd Sanders<br>\n• Meet the Chamber Staff<br>\n• Learn more about what Chamber Membership can do for you.<br><br>Parking is \nin the Chase Tower Garage located on First Street\, between Van Buren and Monroe \nstreets.&nbsp\; Take the parking garage elevator down to the &quot\;T&quot\; level\, walk \nthrough the tunnel into the building\, up the stairs and take the center bank of \nelevator to the 27th floor.<br><br><strong>*Be sure to bring your parking ticket \nto the reception for validation.</strong><p>\n\n\n
LOCATION:201 N. Central Ave.\, Ste. 2700\, Phoenix\, AZ 85004
UID:e.2665.2033
SEQUENCE:3
DTSTAMP:20260423T131351Z
URL:https://business.phoenixchamber.com/events/details/new-member-open-house-06-16-2010-2033
END:VEVENT

END:VCALENDAR
