BEGIN:VCALENDAR
VERSION:2.0
PRODID:-//ChamberMaster//Event Calendar 2.0//EN
METHOD:PUBLISH
X-PUBLISHED-TTL:P3D
REFRESH-INTERVAL:P3D
CALSCALE:GREGORIAN
BEGIN:VEVENT
DTSTART:20090916T150000Z
DTEND:20090916T160000Z
X-MICROSOFT-CDO-ALLDAYEVENT:FALSE
SUMMARY:New Member Open House
DESCRIPTION:.style1 {\n	font-family: Arial\;\n	font-size: 9pt\;\n	color: #666666\;\n}\n.style2 {\n	border-width: 0px\;\n}\n\n\n\n\n\n\n\nCONGRATULATIONS ON JOINING THE GREATER PHOENIX CHAMBER OF COMMERCE! Join us for our New Member Open House and get acquainted with the Chamber staff and our members. Enjoy a brief program\, continental breakfast and plenty of time for networking with other new members. Don't miss this opportunity to introduce your business to the Chamber community. Bring plenty of business cards!\n\n\n\nPROGRAM:\n\n\n• Meet the Chamber President & CEO Todd Sanders\n\n• Meet the Chamber Staff\n\n• Learn more about what Chamber Membership can do for you.
X-ALT-DESC;FMTTYPE=text/html:\n<head>\n<style type="text/css">\n.style1 {\n	font-family: Arial\;\n	font-size: 9pt\;\n	color: #666666\;\n}\n.style2 {\n	border-width: 0px\;\n}\n</style>\n</head>\n\n<body class="style1"><br>\n\n\n<strong>CONGRATULATIONS ON JOINING THE GREATER PHOENIX CHAMBER OF COMMERCE!</strong> Join us for our New Member Open House and get acquainted with the Chamber staff and our members. Enjoy a brief program\, continental breakfast and plenty of time for networking with other new members. Don't miss this opportunity to introduce your business to the Chamber community. Bring plenty of business cards!<br></br>\n\n\nPROGRAM:<br>\n\n• Meet the Chamber President & CEO Todd Sanders<br>\n• Meet the Chamber Staff<br>\n• Learn more about what Chamber Membership can do for you.<p>\n\n\n\n\n
LOCATION:201 N. Central Ave.\, Ste. 2700\, Phoenix\, AZ 85004
UID:e.2665.1816
SEQUENCE:3
DTSTAMP:20260424T050014Z
URL:https://business.phoenixchamber.com/events/details/new-member-open-house-09-16-2009-1816
END:VEVENT

END:VCALENDAR
