BEGIN:VCALENDAR
VERSION:2.0
PRODID:-//ChamberMaster//Event Calendar 2.0//EN
METHOD:PUBLISH
X-PUBLISHED-TTL:P3D
REFRESH-INTERVAL:P3D
CALSCALE:GREGORIAN
BEGIN:VEVENT
DTSTART:20100929T213000Z
DTEND:20100930T020000Z
X-MICROSOFT-CDO-ALLDAYEVENT:FALSE
SUMMARY:PhoeNEXT: Engaging the Talent of Today
DESCRIPTION:Join us for an afternoon designed \nto be a catalyst for engaging and cultivating the next generation of leaders to \nbecome community stewards for Phoenix. This event will include a keynote \npresentation with Katie Pushor of Inner Capital\, breakouts and a mixer with a \n Community Connect Expo. Learn how to build a diverse business network\, \nincorporate volunteerism into your professional goals and connect with \ncharitable boards and commissions. \n\n \n	\n		General Session\n		\n\n		2:30pm-3:45pm \n		Charting Your \n		Leadership Path \n\n		A distinguished panel of Phoenix leaders will share the value of \n		social responsibility\, incorporating volunteerism and community \n		stewardship into your professional goals\, how to get on the board you \n		want\, the importance of continuing education\, and the resources \n		available to develop these skills.\n\n		Panelists:\n\n		·  Katie Pushor\, Inner Capital (keynote presenter) \n\n		·  Deborah Bateman\, National Bank of Arizona\n\n		·  Margie Traylor\, Sitewire\n\n		·  Armando Flores\, ASU\n\n \n	\n	\n		Breakout A\n\n		4:00pm-5:30pm\n		Building the \n		Brand that is You\n\n		A discussion panel about how to build a \n		professional image online and off\, social vs. business networking\, \n		building credibility in the community\, the importance of professional \n		development\, and the value of a mentor relationship.  \n\n		Panelists:\n\n		·  Sam Alpert\, David & Sam PR\n\n		·  Lindsay Bayuk\, The Whale Hunters\n\n		·  Andrea Katsene
X-ALT-DESC;FMTTYPE=text/html:<br><br>\n\nJoin us for an afternoon designed \nto be a catalyst for engaging and cultivating the next generation of leaders to \nbecome community stewards for Phoenix. This event will include a keynote \npresentation with Katie Pushor of Inner Capital\, breakouts and a mixer with a \n&nbsp\;Community Connect Expo. Learn how to build a diverse business network\, \nincorporate volunteerism into your professional goals and connect with \ncharitable boards and commissions. </span><br>\n&nbsp\;<table border="0" cellspacing="0" cellpadding="0" style="border-collapse: collapse\; margin-left: 6.75pt\; margin-right: 6.75pt">\n	<tr>\n		<td style="width: 202px" valign="top"><b>General Session\n		<br>\n		2:30pm-3:45pm</b><p>&nbsp\;</td>\n		<td style="width: 812px" valign="top"><b>Charting Your \n		Leadership Path <br>\n		</b>A distinguished panel of Phoenix leaders will share the value of \n		social responsibility\, incorporating volunteerism and community \n		stewardship into your professional goals\, how to get on the board you \n		want\, the importance of continuing education\, and the resources \n		available to develop these skills.<b><br>\n		Panelists:</b><br>\n		·&nbsp\;&nbsp\;Katie Pushor\, Inner Capital (keynote presenter) <br>\n		·&nbsp\;&nbsp\;Deborah Bateman\, National Bank of Arizona<br>\n		·&nbsp\;&nbsp\;Margie Traylor\, Sitewire<br>\n		·&nbsp\;&nbsp\;Armando Flores\, ASU<br>\n&nbsp\;</td>\n	</tr>\n	<tr>\n		<td style="width: 202px" valign="top"><b>Breakout A</b><br>\n		<b>4:00pm-5:30pm</b></td>\n		<td style="width: 812px" valign="top"><b>Building the \n		Brand that is You<br>\n		</b>A discussion panel about how to build a \n		professional image online and off\, social vs. business networking\, \n		building credibility in the community\, the importance of professional \n		development\, and the value of a mentor relationship.&nbsp\; <br>\n		<b>Panelists:</b><br>\n		·&nbsp\;&nbsp\;Sam Alpert\, David &amp\; Sam PR<br>\n		·&nbsp\;&nbsp\;Lindsay Bayuk\, The Whale Hunters<br>\n		·&nbsp\;&nbsp\;Andrea Katsene
LOCATION:6850 E. Indian School Dr.\, Scottsdale\, AZ 85251
UID:e.2665.2123
SEQUENCE:3
DTSTAMP:20260423T090002Z
URL:https://business.phoenixchamber.com/events/details/phoenext-engaging-the-talent-of-today-09-29-2010-2123
END:VEVENT

END:VCALENDAR
