BEGIN:VCALENDAR
VERSION:2.0
PRODID:-//ChamberMaster//Event Calendar 2.0//EN
METHOD:PUBLISH
X-PUBLISHED-TTL:P3D
REFRESH-INTERVAL:P3D
CALSCALE:GREGORIAN
BEGIN:VEVENT
DTSTART:20090804T183000Z
DTEND:20090804T200000Z
X-MICROSOFT-CDO-ALLDAYEVENT:FALSE
SUMMARY:Professional Women's Roundtable
DESCRIPTION:Untitled 1\n\n.style1 {\n	font-family: Arial\;\n	font-size: 9pt\;\n	color: #666666\;\n}\n.style2 {\n	font-family: Arial\;\n	font-weight: bold\;\n	font-size: 9pt\;\n	color: #666666\;\n}\n\n\n\n\n\nProfessional Women's Roundtable \nCool Down in the Heat - Let's Network! \nCool down in the summer heat by joining us for a \nnetworking-only event with a group of inspiring\, professional women from around \nthe Valley. Take advantage of this opportunity to build partnerships and great \nrapport to assist you in growing your personal/business network\, all while \ndeveloping deeper relationships. Bring plenty of business cards and be ready to \nnetwork with some familiar and new faces. This is the perfect opportunity to \nconnect with other women entrepreneurs\, so don't miss out!
X-ALT-DESC;FMTTYPE=text/html:<!DOCTYPE html PUBLIC "-//W3C//DTD XHTML 1.0 Transitional//EN" "http://www.w3.org/TR/xhtml1/DTD/xhtml1-transitional.dtd">\n<html xmlns="http://www.w3.org/1999/xhtml">\n\n<head>\n<meta content="en-us" http-equiv="Content-Language" />\n<meta content="text/html\; charset=windows-1252" http-equiv="Content-Type" />\n<title>Untitled 1</title>\n<style type="text/css">\n.style1 {\n	font-family: Arial\;\n	font-size: 9pt\;\n	color: #666666\;\n}\n.style2 {\n	font-family: Arial\;\n	font-weight: bold\;\n	font-size: 9pt\;\n	color: #666666\;\n}\n</style>\n</head>\n\n<body>\n\n<p class="style2">Professional Women's Roundtable </p>\n<p class="style2">Cool Down in the Heat - Let's Network! </p>\n<p class="style1">Cool down in the summer heat by joining us for a \nnetworking-only event with a group of inspiring\, professional women from around \nthe Valley. Take advantage of this opportunity to build partnerships and great \nrapport to assist you in growing your personal/business network\, all while \ndeveloping deeper relationships. Bring plenty of business cards and be ready to \nnetwork with some familiar and new faces. This is the perfect opportunity to \nconnect with other women entrepreneurs\, so don't miss out! </p>\n\n</body>\n\n</html>\n
LOCATION:201 N. Central Ave.\, Ste. 2700\, Phoenix\, AZ 85004
UID:e.2665.1805
SEQUENCE:3
DTSTAMP:20260424T043210Z
URL:https://business.phoenixchamber.com/events/details/professional-women-s-roundtable-08-04-2009-1805
END:VEVENT

END:VCALENDAR
