BEGIN:VCALENDAR
VERSION:2.0
PRODID:-//ChamberMaster//Event Calendar 2.0//EN
METHOD:PUBLISH
X-PUBLISHED-TTL:P3D
REFRESH-INTERVAL:P3D
CALSCALE:GREGORIAN
BEGIN:VEVENT
DTSTART:20090901T183000Z
DTEND:20090901T200000Z
X-MICROSOFT-CDO-ALLDAYEVENT:FALSE
SUMMARY:Professional Women's Roundtable
DESCRIPTION:.style1 {\n	font-family: Arial\;\n	font-size: x-small\;\n	color: #666666\;\n}\n\n\n\n\n\n\n\nThink Global:  Learning from Women Around the World\n\n\n\nSpeaker: Dr. Candace Lew\, MD \n\nBe inspired to broaden your horizons with 2008 ATHENA Award recipient Dr. Candace\nLew. Dr. Lew has practiced obstetrics and gynecology in Tempe for 24 years. She\nrecently left her practice in order to pursue a Masters in Public Health\, at Johns Hopkins\nUniversity\, in hopes of adding to her OB/GYN background to better work in the field of\ninternational women's health.\n\n\n\nJoin us to hear about her adventures traveling the world as an OB/GYN and learn how\nwomen around the world overcome their struggles and reach for inspiration.
X-ALT-DESC;FMTTYPE=text/html:\n<head>\n<style type="text/css">\n.style1 {\n	font-family: Arial\;\n	font-size: x-small\;\n	color: #666666\;\n}\n</style>\n</head>\n\n<body class="style1" style="font-size: 9pt">\n\n\n\n<strong>Think Global:  Learning from Women Around the World\n\n</strong><br><br><strong>Speaker:</strong> Dr. Candace Lew\, MD <br><br>Be inspired to broaden your horizons with 2008 ATHENA Award recipient Dr. Candace\nLew. Dr. Lew has practiced obstetrics and gynecology in Tempe for 24 years. She\nrecently left her practice in order to pursue a Masters in Public Health\, at Johns Hopkins\nUniversity\, in hopes of adding to her OB/GYN background to better work in the field of\ninternational women's health.<br><br>\n\nJoin us to hear about her adventures traveling the world as an OB/GYN and learn how\nwomen around the world overcome their struggles and reach for inspiration.
LOCATION:201 N. Central Ave.\, Ste. 2700\, Phoenix\, AZ 85004
UID:e.2665.1815
SEQUENCE:3
DTSTAMP:20260424T045551Z
URL:https://business.phoenixchamber.com/events/details/professional-women-s-roundtable-09-01-2009-1815
END:VEVENT

END:VCALENDAR
