BEGIN:VCALENDAR
VERSION:2.0
PRODID:-//ChamberMaster//Event Calendar 2.0//EN
METHOD:PUBLISH
X-PUBLISHED-TTL:P3D
REFRESH-INTERVAL:P3D
CALSCALE:GREGORIAN
BEGIN:VEVENT
DTSTART:20100115T190000Z
DTEND:20100115T203000Z
X-MICROSOFT-CDO-ALLDAYEVENT:FALSE
SUMMARY:Public Affairs Committee Meeting
DESCRIPTION:.style1 {\n	font-family: Arial\;\n	font-size: 9pt\;\n	color: #666666\;\n}\n.style3 {\n	font-size: 9pt\;\n}\n\n\n\n\n\nThis committee considers recommendations from the GPCC's 8 issue committees\, \nand acts to make position recommendations on public policy and legislation to \nthe Chamber's Board of Directors.\n\nSpecial Meeting Date and extended time.  \nAt this meeting\, the Committee will address the economic recovery and budget \nstability strategies for the upcoming session.  In addition\, the Committee \nwill also review bill position recommendations by several of the issue \ncommittees.\n\nLunch will be served at this meeting to \nthose who have RSVP's in advance.
X-ALT-DESC;FMTTYPE=text/html:<head>\n<style type="text/css">\n.style1 {\n	font-family: Arial\;\n	font-size: 9pt\;\n	color: #666666\;\n}\n.style3 {\n	font-size: 9pt\;\n}\n</style>\n</head>\n\n<body class="style1">\n\n<font class="style3" size="2">This committee considers recommendations from the GPCC's 8 issue committees\, \nand acts to make position recommendations on public policy and legislation to \nthe Chamber's Board of Directors.<br><br>Special Meeting Date and extended time.&nbsp\; \nAt this meeting\, the Committee will address the economic recovery and budget \nstability strategies for the upcoming session.&nbsp\; In addition\, the Committee \nwill also review bill position recommendations by several of the issue \ncommittees.<br><br>Lunch will be served at this meeting to \nthose who have RSVP's in advance.</font>
LOCATION:201 N. Central Ave.\, Ste. 2700\, Phoenix\, AZ 85004
UID:e.2665.1943
SEQUENCE:3
DTSTAMP:20260423T231830Z
URL:https://business.phoenixchamber.com/events/details/public-affairs-committee-meeting-01-15-2010-1943
END:VEVENT

END:VCALENDAR
