BEGIN:VCALENDAR
VERSION:2.0
PRODID:-//ChamberMaster//Event Calendar 2.0//EN
METHOD:PUBLISH
X-PUBLISHED-TTL:P3D
REFRESH-INTERVAL:P3D
CALSCALE:GREGORIAN
BEGIN:VEVENT
DTSTART:20100521T150000Z
DTEND:20100521T230000Z
X-MICROSOFT-CDO-ALLDAYEVENT:FALSE
SUMMARY:Public Affairs Committee Meeting
DESCRIPTION:.style1 {\n	font-family: Arial\;\n	font-size: 9pt\;\n	color: #666666\;\n}\n.style3 {\n	font-size: 9pt\;\n}\n\n\n\n\n\nThis committee considers recommendations from the GPCC's 8 issue committees\, \nand acts to make position recommendations on public policy and legislation to \nthe Chamber's Board of Directors.\n\nThe committee will be discussing the \nfollowing ballot initiatives:  Save Our Secret Ballot (SCR1026)\; The Health Care Choice Act (HCR2014)\; \nLand Conservation (HCR2002)\; The Repeal of First Things First (HCR2001)\; \nLieutenant Governor (SCR1013)\; and State Trust Land (SCR1047).\n\nThe pro side of each issue have 15 \nminutes to present as well as 10 minutes to answer questions.  The con side of \nthe issue will have the same amount of time and will present immediately after. \n\n\nA sponsored lunch will be included at 12:00 noon and during this time \nthere will be discussion and a vote on the morning items. Following the \nafternoon session there will be discussion and then a vote on the afternoon \nitems. \n\nPlease note the date and time change for this meeting.
X-ALT-DESC;FMTTYPE=text/html:<head>\n<style type="text/css">\n.style1 {\n	font-family: Arial\;\n	font-size: 9pt\;\n	color: #666666\;\n}\n.style3 {\n	font-size: 9pt\;\n}\n</style>\n</head>\n\n<body class="style1">\n\n<font class="style3" size="2">This committee considers recommendations from the GPCC's 8 issue committees\, \nand acts to make position recommendations on public policy and legislation to \nthe Chamber's Board of Directors.<br><br>The committee will be discussing the \nfollowing ballot initiatives:&nbsp\; Save Our Secret Ballot (SCR1026)\; The Health Care Choice Act (HCR2014)\; \nLand Conservation (HCR2002)\; The Repeal of First Things First (HCR2001)\; \nLieutenant Governor (SCR1013)\; and State Trust Land (SCR1047).<br><br>The pro side of each issue have 15 \nminutes to present as well as 10 minutes to answer questions.&nbsp\; The con side of \nthe issue will have the same amount of time and will present immediately after.&nbsp\;\n<br><br>A sponsored lunch will be included at 12:00 noon and during this time \nthere will be discussion and a vote on the morning items. Following the \nafternoon session there will be discussion and then a vote on the afternoon \nitems. <br><br>Please note the date and time change for this meeting.
LOCATION:201 N. Central Ave.\, Ste. 2700\, Phoenix\, AZ 85004
UID:e.2665.2009
SEQUENCE:3
DTSTAMP:20260423T150142Z
URL:https://business.phoenixchamber.com/events/details/public-affairs-committee-meeting-05-21-2010-2009
END:VEVENT

END:VCALENDAR
