BEGIN:VCALENDAR
VERSION:2.0
PRODID:-//ChamberMaster//Event Calendar 2.0//EN
METHOD:PUBLISH
X-PUBLISHED-TTL:P3D
REFRESH-INTERVAL:P3D
CALSCALE:GREGORIAN
BEGIN:VEVENT
DTSTART:20100604T190000Z
DTEND:20100604T204500Z
X-MICROSOFT-CDO-ALLDAYEVENT:FALSE
SUMMARY:Public Affairs Committee Meeting
DESCRIPTION:.style1 {\n	font-family: Arial\;\n	font-size: 9pt\;\n	color: #666666\;\n}\n.style3 {\n	font-size: 9pt\;\n}\n\n\n\n\n\nThis committee considers recommendations from the GPCC's 8 issue committees\, \nand acts to make position recommendations on public policy and legislation to \nthe Chamber's Board of Directors.\n\nThe committee will be discussing three \nnew ballot initiatives at this meeting to be announced at a later date.  The pro side of each issue have 15 minutes to present as well \nas 10 minutes to answer questions.  The con side of the issue will have the \nsame amount of time and will present immediately after.  Concluding the \npresentations the committee will vote to make recommendations to the Board \nof Directors.\n\nPlease note the time change for this meeting.  \nAttendees must RSVP prior to the day of the meeting.
X-ALT-DESC;FMTTYPE=text/html:<head>\n<style type="text/css">\n.style1 {\n	font-family: Arial\;\n	font-size: 9pt\;\n	color: #666666\;\n}\n.style3 {\n	font-size: 9pt\;\n}\n</style>\n</head>\n\n<body class="style1">\n\n<font class="style3" size="2">This committee considers recommendations from the GPCC's 8 issue committees\, \nand acts to make position recommendations on public policy and legislation to \nthe Chamber's Board of Directors.<br><br>The committee will be discussing three \nnew ballot initiatives at this meeting to be announced at a later date.&nbsp\; The pro side of each issue have 15 minutes to present as well \nas 10 minutes to answer questions.&nbsp\; The con side of the issue will have the \nsame amount of time and will present immediately after.&nbsp\; Concluding the \npresentations the committee will vote to make recommendations to the Board \nof Directors.<br><br>Please note the time change for this meeting.</font>&nbsp\; \nAttendees must RSVP prior to the day of the meeting.
LOCATION:201 N. Central Ave.\, Ste. 2700\, Phoenix\, AZ 85004
UID:e.2665.2062
SEQUENCE:3
DTSTAMP:20260423T131526Z
URL:https://business.phoenixchamber.com/events/details/public-affairs-committee-meeting-06-04-2010-2062
END:VEVENT

END:VCALENDAR
