BEGIN:VCALENDAR
VERSION:2.0
PRODID:-//ChamberMaster//Event Calendar 2.0//EN
METHOD:PUBLISH
X-PUBLISHED-TTL:P3D
REFRESH-INTERVAL:P3D
CALSCALE:GREGORIAN
BEGIN:VEVENT
DTSTART:20111014T190000Z
DTEND:20111014T200000Z
X-MICROSOFT-CDO-ALLDAYEVENT:FALSE
SUMMARY:Public Affairs Committee Meeting
DESCRIPTION:At this meeting\, the Issue Committees will present their guiding principles for 2012 to the full Public Affairs Committee. \n\n\n\nLunch will be served at this meeting to those who have RSVP'd in advance.
X-ALT-DESC;FMTTYPE=text/html:<p><br>\nAt this meeting\, the Issue Committees will present their guiding principles for 2012 to the full Public Affairs Committee. \n<br><br>\nLunch will be served at this meeting to those who have RSVP'd in advance. </p>
LOCATION:201 N. Central Ave.\, Ste. 2700\, Phoenix\, AZ 85004
UID:e.2665.2412
SEQUENCE:3
DTSTAMP:20260422T140047Z
URL:https://business.phoenixchamber.com/events/details/public-affairs-committee-meeting-10-14-2011-2412
END:VEVENT

END:VCALENDAR
