BEGIN:VCALENDAR
VERSION:2.0
PRODID:-//ChamberMaster//Event Calendar 2.0//EN
METHOD:PUBLISH
X-PUBLISHED-TTL:P3D
REFRESH-INTERVAL:P3D
CALSCALE:GREGORIAN
BEGIN:VEVENT
DTSTART:20091204T190000Z
DTEND:20091204T200000Z
X-MICROSOFT-CDO-ALLDAYEVENT:FALSE
SUMMARY:Public Affairs Committee Meeting
DESCRIPTION:.style1 {\n	font-family: Arial\;\n	font-size: 9pt\;\n	color: #666666\;\n}\n.style3 {\n	font-size: 9pt\;\n}\n\n\n\n\n\n\nThis committee considers recommendations from the GPCC's 8 issue committees\, \nand acts to make position recommendations on public policy and legislation to \nthe Chamber's Board of Directors.
X-ALT-DESC;FMTTYPE=text/html:\n<head>\n<style type="text/css">\n.style1 {\n	font-family: Arial\;\n	font-size: 9pt\;\n	color: #666666\;\n}\n.style3 {\n	font-size: 9pt\;\n}\n</style>\n</head>\n\n<body class="style1">\n\n<br><font class="style3" size="2">This committee considers recommendations from the GPCC's 8 issue committees\, \nand acts to make position recommendations on public policy and legislation to \nthe Chamber's Board of Directors.<br><br></font>
LOCATION:201 N. Central Ave.\, Ste. 2700\, Phoenix\, AZ 85004
UID:e.2665.1902
SEQUENCE:3
DTSTAMP:20260423T231754Z
URL:https://business.phoenixchamber.com/events/details/public-affairs-committee-meeting-12-04-2009-1902
END:VEVENT

END:VCALENDAR
