BEGIN:VCALENDAR
VERSION:2.0
PRODID:-//ChamberMaster//Event Calendar 2.0//EN
METHOD:PUBLISH
X-PUBLISHED-TTL:P3D
REFRESH-INTERVAL:P3D
CALSCALE:GREGORIAN
BEGIN:VEVENT
DTSTART:20110401T190000Z
DTEND:20110401T203000Z
X-MICROSOFT-CDO-ALLDAYEVENT:FALSE
SUMMARY:Public Affairs Committee Special Meeting
DESCRIPTION:This committee considers recommendations from the GPCC's 6 issue committees\, and acts to make position recommendations on public policy and legislation to the Chamber's Board of Directors.\n\n\n\nAt this meeting\, the Issue Committees will present their guiding principles for the 2011 to the full Public Affairs Committee. \n\n\n\nLunch will be served at this meeting to those who have RSVP'd in advance.
X-ALT-DESC;FMTTYPE=text/html:<p>This committee considers recommendations from the GPCC's 6 issue committees\, and acts to make position recommendations on public policy and legislation to the Chamber's Board of Directors.\n<br><br>\nAt this meeting\, the Issue Committees will present their guiding principles for the 2011 to the full Public Affairs Committee. \n<br><br>\nLunch will be served at this meeting to those who have RSVP'd in advance. </p>
LOCATION:201 N. Central Ave.\, Ste. 2700\, Phoenix\, AZ 85004
UID:e.2665.2305
SEQUENCE:3
DTSTAMP:20260422T220246Z
URL:https://business.phoenixchamber.com/events/details/public-affairs-committee-special-meeting-04-01-2011-2305
END:VEVENT

END:VCALENDAR
