BEGIN:VCALENDAR
VERSION:2.0
PRODID:-//ChamberMaster//Event Calendar 2.0//EN
METHOD:PUBLISH
X-PUBLISHED-TTL:P3D
REFRESH-INTERVAL:P3D
CALSCALE:GREGORIAN
BEGIN:VEVENT
DTSTART:20100609T183000Z
DTEND:20100609T200000Z
X-MICROSOFT-CDO-ALLDAYEVENT:FALSE
SUMMARY:Safety Seminar You Can Be A Hero If You Have A Place To Save Money For Your Company
DESCRIPTION:.style1 {\n	font-family: Arial\;\n	font-size: 9pt\;\n	color: #666666\;\n}\n\n\n\nIn many companies\, workers' compensation insurance \npremiums are a major cost. These premiums can be reduced by having a strong \nsafety program in place to reduce claims for medical and lost time expenses \nresulting from workplace injuries. But safety does not happen automatically. You \nhave to install and administer a solid safety program plan. We want to assist \nyou in saving money and becoming a hero!\n\n\nThe Greater Phoenix Chamber of Commerce \nAssociation Safety Committee will be offering a free safety seminar on June 9\, \n2010 from 11:30 AM to 1:00 PM. Training will be provided on how to prevent \nstrain injuries --- among of the most common injuries reported by our members. \nIn addition\, SCF Arizona will be presenting their Safety Template --- a guide to \ncreating your company's safety plan. You don't have to re-invent the \nwheel! Come to this event and leave with a step-by-step guide to write your own \nsafety plan. \n\n\nThis event will be held in the conference center at Arizona Bridge to \nIndependent Living. Lunch will be served\, a $10 gas card will be given to each \nregistered GPCC member company representative in attendance\, and a door prize \ndrawing will be made for two Southwest Airlines tickets. \n\nThe event is \nfree.  If you have any questions please contact Ron McElhaney at (602) \n495-6486 or you can email him at \nrmcelhaney@phoenixchamber.com.\n\nParking directions:\n\n\n• Driving east on Washington from \nSR-143\, look for Disability Empowerment Center on the right. Turn right into \ndriveway on east side of building and parking structure will be
X-ALT-DESC;FMTTYPE=text/html:<head>\n<style type="text/css">\n.style1 {\n	font-family: Arial\;\n	font-size: 9pt\;\n	color: #666666\;\n}\n</style>\n</head>\n\n<p><span class="style1">In many companies\, workers' compensation insurance \npremiums are a major cost. These premiums can be reduced by having a strong \nsafety program in place to reduce claims for medical and lost time expenses \nresulting from workplace injuries. But safety does not happen automatically. You \nhave to install and administer a solid safety program plan. We want to assist \nyou in saving money and becoming a hero!</span><br class="style1">\n<br class="style1"><span class="style1">The Greater Phoenix Chamber of Commerce \nAssociation Safety Committee will be offering a free safety seminar on June 9\, \n2010 from 11:30 AM to 1:00 PM. Training will be provided on how to prevent \nstrain injuries --- among of the most common injuries reported by our members. \nIn addition\, SCF Arizona will be presenting their Safety Template --- a guide to \ncreating your company's safety plan. You don't have to re-invent the \nwheel! Come to this event and leave with a step-by-step guide to write your own \nsafety plan. </span><br class="style1"><br class="style1"><span class="style1">\nThis event will be held in the conference center at Arizona Bridge to \nIndependent Living. Lunch will be served\, a $10 gas card will be given to each \nregistered GPCC member company representative in attendance\, and a door prize \ndrawing will be made for two Southwest Airlines tickets. <br><br>The event is \nfree.&nbsp\; If you have any questions please contact Ron McElhaney at (602) \n495-6486 or you can email him at \nrmcelhaney@phoenixchamber.com.</span><br class="style1"><br class="style1"><span class="style1">Parking directions:<br>\n</span><br class="style1"><span class="style1">• Driving east on Washington from \nSR-143\, look for Disability Empowerment Center on the right. Turn right into \ndriveway on east side of building and parking structure will be
LOCATION:5025 E. Washington Str.\, Phoenix\, AZ 85034
UID:e.2665.2073
SEQUENCE:3
DTSTAMP:20260423T132112Z
URL:https://business.phoenixchamber.com/events/details/safety-seminar-you-can-be-a-hero-if-you-have-a-place-to-save-money-for-your-company-06-09-2010-2073
END:VEVENT

END:VCALENDAR
