BEGIN:VCALENDAR
VERSION:2.0
PRODID:-//ChamberMaster//Event Calendar 2.0//EN
METHOD:PUBLISH
X-PUBLISHED-TTL:P3D
REFRESH-INTERVAL:P3D
CALSCALE:GREGORIAN
BEGIN:VEVENT
DTSTART:20110422T200000Z
DTEND:20110423T020000Z
X-MICROSOFT-CDO-ALLDAYEVENT:FALSE
SUMMARY:South Mountain Golf Shoot Out
DESCRIPTION:Enjoy raffle prizes\, a post tournament awards program and dinner at the 7th Annual Golf Shoot-Out at South Mountain!  This event promotes the communities of Laveen and South Phoenix/South Mountain. South Mountain Community College Scholarship Fund and Girl Scouts Summer Camp Program are also benefitted in part.\n\n\nShot-gun start:  1:00 pm\n\n\nHole and Event sponsorships are available. Contact Steve Glueck for more information: sglueck@phoenixchamber.com or 602.495.6469.\n\n\nAwards Information:\n\n\n\n1st   \n\n1st Place award to Women Team low net.\n\nCloset to the Pin (CP) prizes on all Par 3's\; \n\nLongest Drive Men and Longest Drive Women prize on designated long drive hole.\n\nBetween the 9's putting contest and Molly Award chipping contest award benefiting Local Girl Scouts Summer Camp Program.\n\n\n\nNo refunds will be made for cancellations within 72 hours of the event.
X-ALT-DESC;FMTTYPE=text/html:<p>Enjoy raffle prizes\, a post tournament awards program and dinner at the 7th Annual Golf Shoot-Out at South Mountain!  This event promotes the communities of Laveen and South Phoenix/South Mountain. South Mountain Community College Scholarship Fund and Girl Scouts Summer Camp Program are also benefitted in part.<br><br>\nShot-gun start:  1:00 pm<br><br>\nHole and Event sponsorships are available. Contact Steve Glueck for more information: sglueck@phoenixchamber.com or 602.495.6469.<br><br>\n<b>Awards Information:</b><br><br>\n\n1st & 2nd Place Tournament Awards—Men or Mixed Team low net\; <br>\n1st Place award to Women Team low net.<br>\nCloset to the Pin (CP) prizes on all Par 3's\; <br>\nLongest Drive Men and Longest Drive Women prize on designated long drive hole.<br>\nBetween the 9's putting contest and Molly Award chipping contest award benefiting Local Girl Scouts Summer Camp Program.<br><br>\n\nNo refunds will be made for cancellations within 72 hours of the event.</p>\n\n
LOCATION:6808 S. 32nd St.\, Phoenix\, AZ 85042
UID:e.2665.2292
SEQUENCE:3
DTSTAMP:20260422T220138Z
URL:https://business.phoenixchamber.com/events/details/south-mountain-golf-shoot-out-04-22-2011-2292
END:VEVENT

END:VCALENDAR
