BEGIN:VCALENDAR
VERSION:2.0
PRODID:-//ChamberMaster//Event Calendar 2.0//EN
METHOD:PUBLISH
X-PUBLISHED-TTL:P3D
REFRESH-INTERVAL:P3D
CALSCALE:GREGORIAN
BEGIN:VEVENT
DTSTART:20121018T200000Z
DTEND:20121019T020000Z
X-MICROSOFT-CDO-ALLDAYEVENT:FALSE
SUMMARY:South Mountain Golf Shoot Out
DESCRIPTION:Cost per Foursome: $380.00\n\nCost per Individual: $110.00\n\nEnjoy raffle prizes\, a post tournament awards dinner at the 8th Annual Golf \nShoot-Out at South Mountain! This event promotes the communities of Laveen and \nSouth Phoenix/South Mountain\, also benefitting:\n\n	\n	South Mountain Community College Athletics\n	\n	Girl Scouts Summer Camp Program Scholarships\n	\n	Shane Figueroa Memorial Scholarship Fund at \n	South Mountain Community College\, awarded by South Mountain Precinct\n\nShot-gun start: 1:00 pm\n\n\n\nHole and Event sponsorships are available. Contact Steve Glueck for more \ninformation:\n\nsglueck@phoenixchamber.com or 602.495.6469.\n\n\n\nTo sign up for this event\, please print out the form here and mail with payment to:\n\n"SMLCC 2012 Golf Shootout"\n\nSMCC/Cashier's Office\n\n7050 S. 24th St.\n\nPhoenix\, AZ 85042\n\n\n\nAwards Information:\n\n\n\n1st Place Tournament Awards—Men or Mixed Team low net\; \n\nCloset to the Pin (CP) prizes on all Par 3's\; \n\nLongest Drive Men and Longest Drive Women prize on designated long drive hole.\n\n\n\nNo refunds will be made for cancellations within 72 hours of the event.
X-ALT-DESC;FMTTYPE=text/html:<p>\n<b>Cost per Foursome:</b> $380.00<br>\n<b>Cost per Individual:</b> $110.00\n</p>\n<p>Enjoy raffle prizes\, a post tournament awards dinner at the 8th Annual Golf \nShoot-Out at South Mountain! This event promotes the communities of Laveen and \nSouth Phoenix/South Mountain\, also benefitting:</p>\n<ul>\n	<li>\n	<p style="text-autospace: none">South Mountain Community College Athletics</li>\n	<li>\n	<p style="text-autospace: none">Girl Scouts Summer Camp Program Scholarships</li>\n	<li>\n	<p style="text-autospace: none">Shane Figueroa Memorial Scholarship Fund at \n	South Mountain Community College\, awarded by South Mountain Precinct</li>\n</ul>\n<p >Shot-gun start: 1:00 pm<br>\n<br>\nHole and Event sponsorships are available. Contact Steve Glueck for more \ninformation:\n<a href="mailto:sglueck@phoenixchamber.com">\nsglueck@phoenixchamber.com</a> or 602.495.6469.<br>\n<br>\n<b>To sign up for this event</b>\, please <b>print</b> out the form <a href="http://www.phoenixchamber.com/sites/default/files/pdf/smlcc-golf-shootout-8th.pdf">here</a> and <b>mail</b> with payment to:<br>\n"SMLCC 2012 Golf Shootout"<br>\nSMCC/Cashier's Office<br>\n7050 S. 24th St.<br>\nPhoenix\, AZ 85042<br>\n<br>\n<b>Awards Information:</b><br>\n<br>\n1st Place Tournament Awards—Men or Mixed Team low net\;&nbsp\;<br>\nCloset to the Pin (CP) prizes on all Par 3's\;&nbsp\;<br>\nLongest Drive Men and Longest Drive Women prize on designated long drive hole.<br>\n<br>\nNo refunds will be made for cancellations within 72 hours of the event.</p>\n<p>&nbsp\;</p>\n\n\n\n
LOCATION:701 E. Thunderbird Trail\, Phoenix\, AZ 85042
UID:e.2665.2531
SEQUENCE:3
DTSTAMP:20260421T163335Z
URL:https://business.phoenixchamber.com/events/details/south-mountain-golf-shoot-out-10-18-2012-2531
END:VEVENT

END:VCALENDAR
